Workbook

Sheet 05-2018(DANHSACHTRUNGHAN)
A1: Tên đơn vị: TRƯỜNG CAO ĐẲNG LÝ TỰ TRỌNG THÀNH PHỐ HỒ CHÍ MINH
A2: Mã đơn vị: BD0240Z
A3: Địa chỉ: 390 Hoàng Văn Thụ, Phường 4, Quận Tân Bình, Thành Phố Hồ Chí Minh.
A4: DANH SÁCH SINH VIÊN BẢO HIỂM XÃ HỘI BÁO TRÙNG HẠN ĐỀ NGHỊ ĐƯỢC GIẢM THẺ
A5: NĂM HỌC :2019-2020
A6: 05 tháng 04 năm 2019
B7: Đối tượng tham gia | F7: Lương cơ sở: ……………… đồng
A8: STT | B8: Họ và tên | C8: Mã số BHXH | D8: Ngày tháng năm sinh | E8: Giới tính | F8: Nơi đăng ký KCB ban đầu | G8: Biên lai, ngày tham gia | I8: Tiền lương, trợ cấp hoặc số tiền đóng | J8: Tỷ lệ NS hỗ trợ (%) | K8: Thời hạn giảm thẻ | M8: Ghi chú
G9: Số | H9: Ngày | K9: Số tháng | L9: Từ ngày | M9: Địa chỉ | N9: Số CMND | O9: Mã PB | P9: mã tỉnh KS | Q9: mã huyện KS | R9: mã xã KS | V9: MÃ THẺ BHYT TRÙNG THẺ DO BHXH BÁO VỀ ĐƠN VỊ
A10: A | B10: B | C10: 1 | D10: 2 | E10: 3 | F10: 4 | G10: 5 | H10: 6 | I10: 7 | J10: 8 | K10: 9 | L10: 10 | M10: 11
A11: 1 | B11: Trịnh Tiến Chỉnh | C11: 1920741217 | D11: 06/11/2002 | K11: 12 | L11: 43466 | M11: Mỹ Yên,Xã Mỹ Yên,Huyện Đại Từ,Tỉnh Thái Nguyên | O11: 18005419;18T4-TKĐ2 | V11: DT2191920741217
A12: 2 | B12: Nguyễn Tuấn Việt | C12: 3421044948 | D12: 15/01/2002 | K12: 12 | L12: 43466 | M12: Xóm 6 , Xã Hồng Quỳnh , Huyện Thái Thụy , Tỉnh Thái Bình | O12: 17000168;17T4-CNÔ1 | V12: HN2343421044948
A13: 3 | B13: Nguyễn Trường Phước | C13: 3821313909 | D13: 09/03/1998 | K13: 12 | L13: 43466 | M13: Thôn 9 , Xã Vĩnh An , Huyện Vĩnh Lộc , Tỉnh Thanh Hóa | O13: 17004409;17C1-LTM2 | V13: HN2383821313909
A14: 4 | B14: Lê Bá Linh | C14: 3823378835 | D14: 01/11/2003 | K14: 12 | L14: 43466 | M14: Thôn 7,Xã Hải Lĩnh,Huyện Tĩnh Gia,Tỉnh Thanh Hóa | O14: 18003675;18T4-CCK1 | V14: DK2383823378835
A15: 5 | B15: Hồ Ngọc Duy | C15: 3823438120 | D15: 20/12/1998 | K15: 12 | L15: 43466 | M15: Thôn Phú Thịnh , Xã Phú Lâm , Huyện Tĩnh Gia , Tỉnh Thanh Hóa | O15: 16001356;16CĐ-Ô2 | V15: DK2383823438120
A16: 6 | B16: Lê Thị Cẩm Nhung | C16: 3823852175 | D16: 20/04/2000 | E16: X | K16: 12 | L16: 43466 | M16: Thôn Đại Long,Xã Hoằng Thanh,Huyện Hoằng Hóa,Tỉnh Thanh Hóa | O16: 18005071;18C1-NNA2 | V16: DK2383823852175
A17: 7 | B17: Nguyễn Ngọc Vinh | C17: 4620576110 | D17: 12/09/2002 | K17: 12 | L17: 43466 | M17: Phương Diên,Xã Phú Diên,Huyện Phú Vang,Tỉnh Thừa Thiên Huế | O17: 18001319;18T4-THU1 | V17: DK2464620576110
A18: 8 | B18: Lê Quốc Vũ | C18: 4620995090 | D18: 02/06/2003 | K18: 12 | L18: 43466 | M18: Thôn Trung Phước ,Xã Lộc Trì,Huyện Phú Lộc,Tỉnh Thừa Thiên Huế | O18: 18000216;18T4-CNÔ1 | V18: DK2464620995090
A19: 9 | B19: Lê Minh Tiễn | C19: 4621053631 | D19: 29/04/1999 | K19: 12 | L19: 43466 | M19: Thôn Cao Đôi Xã , Xã Lộc Trì , Huyện Phú Lộc , Tỉnh Thừa Thiên Huế | O19: 17004064;17C1-KML2 | V19: DK2464621053631
A20: 10 | B20: Nguyễn Duy Quý | C20: 4621082608 | D20: 20/02/1999 | K20: 12 | L20: 43466 | M20: Vĩnh Giang,Xã Vinh Giang,Huyện Phú Lộc,Tỉnh Thừa Thiên Huế | O20: 18005373;18C1-TĐH2 | V20: DK2464621082608
A21: 11 | B21: Lê Việt Yên | C21: 5120647133 | D21: 02/12/1976 | K21: 12 | L21: 43466 | M21: Thôn Điền Chánh,Xã Nghĩa Điền,Huyện Tư Nghĩa,Tỉnh Quảng Ngãi | O21: 18000500;18C1-CMT1 | V21: BT2515120647133
A22: 12 | B22: Nguyễn Thị Cúc | C22: 5120966444 | D22: 10/10/1997 | E22: X | K22: 12 | L22: 43466 | M22: Quảng Ngãi , Xã Đức Lợi , Huyện Mộ Đức , Tỉnh Quảng Ngãi | O22: 16003003;16CĐ-MTT2 | V22: DK2515120966444
A23: 13 | B23: Phan Hoài Linh | C23: 5120974569 | D23: 02/06/2000 | K23: 12 | L23: 43466 | M23: 298A Tỉnh lộ 2 Tổ 2,Xã Đức Chánh,Huyện Mộ Đức,Tỉnh Quảng Ngãi | O23: 18002835;18C1-CNÔ13 | V23: DK2515120974569
A24: 14 | B24: Nguyễn Đức Linh | C24: 5120979671 | D24: 30/04/2000 | K24: 12 | L24: 43466 | M24: KDC 35,Xã Đức Chánh,Huyện Mộ Đức,Tỉnh Quảng Ngãi | O24: 18002879;18C1-CNÔ14 | V24: DK2515120979671
A25: 15 | B25: Phạm Quang Đời | C25: 5120990604 | D25: 25/10/2000 | K25: 12 | L25: 43466 | M25: 298A Tỉnh lộ 2 Tổ 2,Xã Đức Phong,Huyện Mộ Đức,Tỉnh Quảng Ngãi | O25: 18002757;18C1-CNÔ13 | V25: DK2515120990604
A26: 16 | B26: Cao Minh Phúc | C26: 5120993572 | D26: 09/11/2000 | K26: 12 | L26: 43466 | M26: KDC số 10 Thôn 2,Xã Đức Chánh,Huyện Mộ Đức,Tỉnh Quảng Ngãi | O26: 18004687;18C1-ĐĐT3 | V26: DK2515120993572
A27: 17 | B27: Nguyễn Ngọc Triết | C27: 5121007301 | D27: 20/11/2000 | K27: 12 | L27: 43466 | M27: 24 Đạm Thủy Nam,Xã Đức Minh,Huyện Mộ Đức,Tỉnh Quảng Ngãi | O27: 18004814;18C1-CTM2 | V27: DK2515121007301
A28: 18 | B28: Lê Minh Quốc | C28: 5121084782 | D28: 03/11/1999 | K28: 12 | L28: 43466 | M28: Xóm 3 Thôn Châu Me , Xã Phổ Châu , Huyện Đức Phổ , Tỉnh Quảng Ngãi | O28: 17004613;17C1-CĐT1 | V28: DK2515121084782
A29: 19 | B29: Nguyễn Thành Tuân | C29: 5121085407 | D29: 13/10/2000 | K29: 12 | L29: 43466 | M29: Vùng 5 thôn Hải Tân,Xã Phổ Quang,Huyện Đức Phổ,Tỉnh Quảng Ngãi | O29: 18003428;18C1-VSL2 | V29: DK2515121085407
A30: 20 | B30: Nguyễn Long Phi | C30: 5121125049 | D30: 16/08/2000 | K30: 12 | L30: 43466 | M30: Xóm 8B Thôn Diên Trường,Xã Phổ Khánh,Huyện Đức Phổ,Tỉnh Quảng Ngãi | O30: 18004309;18C1-CCK7 | V30: DK2515121125049
A31: 21 | B31: Nguyễn Trung Đoàn | C31: 5121152332 | D31: 31/01/2000 | K31: 12 | L31: 43466 | M31: Vùng 4 , Xã Phổ Thuận , Huyện Đức Phổ , Tỉnh Quảng Ngãi | O31: 16000470;16TCN-Đ | V31: DK2515121152332
A32: 22 | B32: Đỗ Huỳnh Minh Quang | C32: 5121162864 | D32: 25/10/2000 | K32: 12 | L32: 43466 | M32: Thôn Qui Thiện,Xã Phổ Khánh,Huyện Đức Phổ,Tỉnh Quảng Ngãi | O32: 18005032;18C1-CTM2 | V32: DK2515121162864
A33: 23 | B33: Trương Lê Văn | C33: 5121176963 | D33: 13/10/2000 | K33: 12 | L33: 43466 | M33: Vùng 5 thôn hải Tân,Xã Phổ Quang,Huyện Đức Phổ,Tỉnh Quảng Ngãi | O33: 18002363;18C1-CNÔ10 | V33: DK2515121176963
A34: 24 | B34: Bùi Quốc Đạt | C34: 5121475122 | D34: 12/08/2000 | K34: 12 | L34: 43466 | M34: 22 Trung Sơn,Xã Phổ Khánh,Huyện Đức Phổ,Tỉnh Quảng Ngãi | O34: 18001920;18C1-CNÔ7 | V34: DK2515121475122
... A43: 33 | B43: Nguyễn Xuân Tâm | C43: 5221419822 | D43: 12/06/1999 | K43: 12 | L43: 43466 | M43: Thôn Bình Lâm , Xã Phước Hòa , Huyện Tuy Phước , Tỉnh Bình Định | O43: 17002735;17C1-CCK5 | V43: CN3525221419822
A44: 34 | B44: Nguyễn Thị Ánh Ly | C44: 5221502936 | D44: 20/04/1998 | E44: X | K44: 12 | L44: 43466 | M44: Cát Khánh , Xã Cát Khánh , Huyện Phù Cát , Tỉnh Bình Định | O44: 16002511;16CĐ-MTT2 | V44: DK2525221502936
A45: 35 | B45: Phan Văn Kiên | C45: 5221519444 | D45: 22/02/1999 | K45: 12 | L45: 43466 | M45: Đội 7 ,thôn Trà Bình , Xã Mỹ Hiệp , Huyện Phù Mỹ , Tỉnh Bình Định | O45: 17002023;17C1-CNL1 | V45: DN4795221519444
A46: 36 | B46: Nguyễn Văn Thành | C46: 5221519445 | D46: 08/05/1999 | K46: 12 | L46: 43466 | M46: Vĩnh Phụng 2 , Xã Hoài Xuân , Huyện Hoài Nhơn , Tỉnh Bình Định | O46: 17001131;17C1-CNÔ4 | V46: DN4015221519445
A47: 37 | B47: Phan Anh Quốc | C47: 5420277693 | D47: 13/07/1994 | K47: 12 | L47: 43466 | M47: Long Nguyên , Xã Xuân Long , Huyện Đồng Xuân , Tỉnh Phú Yên | O47: 16000354;16CĐN-Ô1 | V47: DK2545420277693
A48: 38 | B48: Hoàng Nam Vang | C48: 5820231471 | D48: 06/05/1999 | K48: 12 | L48: 43466 | M48: Hạnh Trí 1 , Xã Quảng Sơn , Huyện Ninh Sơn , Tỉnh Ninh Thuận | O48: 17001441;17C1-ĐCN1 | V48: HN2585820231471
A49: 39 | B49: Nguyễn Ngọc Thuận | C49: 5820461729 | D49: 12/06/1996 | K49: 12 | L49: 43466 | M49: Thôn Long Bình,Xã An Hải,Huyện Ninh Phước,Tỉnh Ninh Thuận | O49: 18005061;18C1-CCK9 | V49: DK2585820461729
A50: 40 | B50: Phạm Tấn Ninh | C50: 5820476202 | D50: 19/11/2000 | K50: 12 | L50: 43466 | M50: Thôn Long Bình,Xã An Hải,Huyện Ninh Phước,Tỉnh Ninh Thuận | O50: 18004809;18C1-VSL3 | V50: DK2585820476202
A51: 41 | B51: Đoàn Thị Thùy Linh | C51: 6021013190 | D51: 20/02/1998 | E51: X | K51: 12 | L51: 43466 | M51: thôn 7 , Xã Mê Pu , Huyện Đức Linh , Tỉnh Bình Thuận | O51: 16003406;16CĐ-MTT2 | V51: DK2606021013190
A52: 42 | B52: Nguyễn Thành Long | C52: 6021435869 | D52: 15/05/2000 | K52: 12 | L52: 43466 | M52: Thôn 1,Xã Trà Tân,Huyện Đức Linh,Tỉnh Bình Thuận | O52: 18001693;18C1-CTM1 | V52: DK2606021435869
A53: 43 | B53: Dụng Thị Ánh Tuyết | C53: 6021482013 | D53: 17/11/1997 | E53: X | K53: 12 | L53: 43466 | M53: Phú Lạc , Xã Phú Lạc , Huyện Tuy Phong , Tỉnh Bình Thuận | O53: 16003535;16CĐ-MTT2 | V53: DT2606021482013
A54: 44 | B54: Nguyễn Thị Bích Quyên | C54: 6021541150 | D54: 07/10/2003 | E54: X | K54: 12 | L54: 43466 | M54: Khu phố Lạc Hưng I,Thị trấn Lạc Tánh,Huyện Tánh Linh,Tỉnh Bình Thuận | O54: 18003378;18T4-KTD1 | V54: HN2606021541150
A55: 45 | B55: Trần Tiến Đạt | C55: 6421896026 | D55: 20/06/1999 | K55: 12 | L55: 43466 | M55: Thôn1 Xã Iaka , Xã Ia Ka , Huyện Chư Păh , Tỉnh Gia Lai | O55: 17003652;17C1-ĐCN4 | V55: DK2646421896026
A56: 46 | B56: Lê Cao Nghị | C56: 6422282992 | D56: 15/06/1998 | K56: 12 | L56: 43466 | M56: Thôn Thanh Bình , Xã Bình Giáo , Huyện Chư Prông , Tỉnh Gia Lai | O56: 16001576;16CĐ-Ô3 | V56: HN2646422282992
A57: 47 | B57: Nguyễn Phúc | C57: 6422782424 | D57: 24/03/2000 | K57: 12 | L57: 43466 | M57: Tổ dân phố 5,Thị trấn Đăk Đoa,Huyện Đăk Đoa,Tỉnh Gia Lai | O57: 18003924;18C1-CCK6 | V57: DN4796422782424
A58: 48 | B58: Nguyễn Bá Thịnh | C58: 6720619550 | D58: 23/02/1997 | K58: 12 | L58: 43466 | M58: 64 Quảng Hợp , Xã Quảng Sơn , Huyện Đăk Glong , Tỉnh Đắk Nông | O58: 16003250;16CĐ-TW1 | V58: HN2676720619550
A59: 49 | B59: Nguyễn Anh Tuấn | C59: 6721037109 | D59: 15/03/2000 | K59: 12 | L59: 43466 | M59: Thôn 10,Xã Quảng Tân,Huyện Tuy Đức,Tỉnh Đắk Nông | O59: 18001889;18C1-CNÔ6 | V59: HN2676721037109
A60: 50 | B60: Võ Minh Điền | C60: 6721037396 | D60: 17/10/2000 | K60: 12 | L60: 43466 | M60: Bon Jalu A,Xã Quảng Tân,Huyện Tuy Đức,Tỉnh Đắk Nông | O60: 18003048;18C1-CNÔ15 | V60: HN2676721037396
A61: 51 | B61: Mai Văn Ngọc | C61: 6721050642 | D61: 10/11/1999 | K61: 12 | L61: 43466 | M61: Thôn 4,Xã Quảng Tân,Huyện Tuy Đức,Tỉnh Đắk Nông | O61: 18003046;18C1-CNÔ15 | V61: DK2676721050642
A62: 52 | B62: Đặng Phương Thành Bảo | C62: 6822211625 | D62: 10/11/1997 | K62: 12 | L62: 43466 | M62: Số 2, Thôn 9 , Xã Liên Đầm , Huyện Di Linh , Tỉnh Lâm Đồng | O62: 17004160;17C1-CCK1 | V62: DK2686822211625
A63: 53 | B63: Đoàn Thanh Minh | C63: 6822342895 | D63: 25/12/1999 | K63: 12 | L63: 43466 | M63: Thôn Tứ Quí,Xã Lộc An,Huyện Bảo Lâm,Tỉnh Lâm Đồng | O63: 18003122;18C1-CNÔ15 | V63: HN2686822342895
A64: 54 | B64: Hoàng Đức Long | C64: 7021127076 | D64: 29/08/2000 | K64: 12 | L64: 43466 | M64: Đội 3,Xã Đak Ơ,Huyện Bù Gia Mập,Tỉnh Bình Phước | O64: 18002513;18T4-CNÔ6 | V64: DK2707021127076
A65: 55 | B65: Nông Hoàng Sơn | C65: 7021571187 | D65: 17/11/2000 | K65: 12 | L65: 43466 | M65: Thôn 9,Xã Thống Nhất,Huyện Bù Đăng,Tỉnh Bình Phước | O65: 18004901;18C1-ĐCN4 | V65: DT2707021571187
A66: 56 | B66: Lê Minh Tâm | C66: 7021635515 | D66: 17/01/2000 | K66: 12 | L66: 43466 | M66: Ấp 11,Xã Thống Nhất,Huyện Bù Đăng,Tỉnh Bình Phước | O66: 18002459;18C1-TMĐ1 | V66: DT2707021635515
... A68: 58 | B68: Lý Thành Đạt | C68: 7022205275 | D68: 11/05/1997 | K68: 12 | L68: 43466 | M68: 60 Thôn 5 , Xã Thống Nhất , Huyện Bù Đăng , Tỉnh Bình Phước | O68: 16001603;16CĐ-ĐCN4 | V68: DT2707022205275
A69: 59 | B69: Nguyễn Trần Thuy Phượng | C69: 7214009084 | D69: 10/01/1997 | E69: X | K69: 12 | L69: 43466 | M69: Ấp Tân Lập,Xã Tiên Thuận,Huyện Bến Cầu,Tỉnh Tây Ninh | O69: 18005164;18C1-NNA2 | V69: DN4727214009084
A70: 60 | B70: Nguyễn Thanh Sang | C70: 7221524659 | D70: 07/11/1993 | K70: 12 | L70: 43466 | M70: Ấp 4, xã Bến Củi,Xã Bến Củi,Huyện Dương Minh Châu,Tỉnh Tây Ninh | O70: 18005747;18C2-CNÔ1 | V70: DN4797221524659
A71: 61 | B71: Nguyễn Chí Thông | C71: 7222057492 | D71: 23/04/2000 | K71: 12 | L71: 43466 | M71: Ấp Chánh,Xã An Thạnh,Huyện Bến Cầu,Tỉnh Tây Ninh | O71: 18002388;18C1-CNÔ11 | V71: DN4727222057492
A72: 62 | B72: Nguyễn Quốc Việt | C72: 7222071700 | D72: 18/08/2000 | K72: 12 | L72: 43466 | M72: tổ 10,Xã An Thạnh,Huyện Bến Cầu,Tỉnh Tây Ninh | O72: 18003903;18C1-CCK5 | V72: DN4727222071700
A73: 63 | B73: Nguyễn Hồ Trung Đặng | C73: 7222389604 | D73: 12/10/1995 | K73: 12 | L73: 43466 | M73: 47/10B Ấp Trường An,Xã Trường Tây,Huyện Hòa Thành,Tỉnh Tây Ninh | O73: 18005516;18C1-NNA2 | V73: DN4797222389604
A74: 64 | B74: Đặng Nguyễn Sang | C74: 7524900002 | D74: 30/10/2000 | K74: 12 | L74: 43466 | M74: khu 3 ấp thuận trường,Xã Sông Thao,Huyện Trảng Bom,Tỉnh Đồng Nai | O74: 18003190;18C1-ĐĐT1 | V74: DN4757524900002
A75: 65 | B75: Nguyễn Trọng Sang | C75: 7722603449 | D75: 19/04/1998 | K75: 12 | L75: 43466 | M75: Sông Xoài 3, Xã Láng Lớn, Huyện Châu Đức, Tỉnh Bà Rịa - Vũng Tàu | O75: 16002403;16CĐ-ĐCN3 | V75: DN4797722603449
A76: 66 | B76: Lê Cẩm Nghĩa | C76: 7931342295 | D76: 17/05/1994 | K76: 12 | L76: 43466 | M76: 661/14 Lũy Bán Bích,Phường Phú Thạnh,Quận Tân Phú,Thành phố Hồ Chí Minh | O76: 18005342;18C2-ĐĐT1 | V76: DN4797931342295
A77: 67 | B77: Nguyễn Duy Khang | C77: 7934902117 | D77: 24/02/1999 | K77: 12 | L77: 43466 | M77: 32/1/27a, Đường 757 Ấp Gò Nổi , Xã An Nhơn Tây , Huyện Củ Chi , Thành phố Hồ Chí Minh | O77: 17003686;17C1-TĐH1 | V77: DN4797934902117
A78: 68 | B78: Lê Tấn Minh | C78: 7934958198 | D78: 18/10/1999 | K78: 12 | L78: 43466 | M78: Tổ 6 Ấp Bình Thương 2, Xã Thái Mỹ, Huyện Củ Chi, Thành phố Hồ Chí Minh | O78: 17002505;17C1-KTD1 | V78: DN4797934958198
A79: 69 | B79: Nguyễn Quốc Trung | C79: 7935202682 | D79: 28/05/1999 | K79: 12 | L79: 43466 | M79: Ấp Mỹ Khánh A , Xã Thái Mỹ , Huyện Củ Chi , Thành phố Hồ Chí Minh | O79: 17001675;17C1-CNÔ8 | V79: DN4797935202682
A80: 70 | B80: Nguyễn Thành Kiệt | C80: 8016042558 | D80: 15/05/1997 | K80: 12 | L80: 43466 | M80: Ấp 3 , Xã Long Thuận , Huyện Thủ Thừa , Tỉnh Long An | O80: 17003696;17C1-CCK8 | V80: DN4808016042558
A81: 71 | B81: Nguyễn Thanh Duy | C81: 8022317034 | D81: 13/06/2000 | K81: 12 | L81: 43466 | M81: 9/7 hẻm 6 Huỳnh Châu Sổ Khu Phố 4,Thị trấn Bến Lức,Huyện Bến Lức,Tỉnh Long An | O81: 18002248;18C1-VSL3 | V81: DN4808022317034
A82: 72 | B82: Hà Thị Thanh Hiền | C82: 8023090323 | D82: 09/06/2000 | E82: X | K82: 12 | L82: 43466 | M82: Ấp 1,Xã Nhị Thành,Huyện Thủ Thừa,Tỉnh Long An | O82: 18002442;18C1-CNM2 | V82: DN4808023090323
A83: 73 | B83: Lê Vũ Phong | C83: 8023286990 | D83: 09/09/2000 | K83: 12 | L83: 43466 | M83: Ấp 2,Xã Mỹ Quý Tây,Huyện Đức Huệ,Tỉnh Long An | O83: 18003335;18C1-BCN1 | V83: DN4728023286990
A84: 74 | B84: Nguyễn Văn Tiền | C84: 8222764646 | D84: 29/01/2000 | K84: 12 | L84: 43466 | M84: Số 125 tổ 6 ấp Bình,Xã Dưỡng Điềm,Huyện Châu Thành,Tỉnh Tiền Giang | O84: 18002469;18C1-ĐCN1 | V84: DN4798222764646
A85: 75 | B85: Hồ Đông Nam | C85: 8223313742 | D85: 30/10/2000 | K85: 12 | L85: 43466 | M85: Ấp Dương Qưới,Xã Phước Trung,Huyện Gò Công Đông,Tỉnh Tiền Giang | O85: 18002189;18C1-CCK2 | V85: DK2828223313742
A86: 227 | B86: Huỳnh Tấn Sang | C86: 8223333434 | D86: 06/03/2000 | K86: 12 | L86: 43466 | M86: ấp 6, Xã Gia Thuận, Huyện Gò Công Đông, Tỉnh Tiền Giang | O86: 18003284;18C1-CCK4 | V86: DK2828223333434
A87: 77 | B87: Nguyễn Duy Tân | C87: 8223353000 | D87: 09/10/1998 | K87: 12 | L87: 43466 | M87: 108 Ấp Giá Trên , Xã Kiểng Phước , Huyện Gò Công Đông , Tỉnh Tiền Giang | O87: 16002612;16CĐ-CTM2 | V87: DK2828223353000
A88: 78 | B88: Lê Thanh Nhàn | C88: 8223370661 | D88: 09/09/2000 | E88: X | K88: 12 | L88: 43466 | M88: Ấp Hiệp Trị,Xã Phước Trung,Huyện Gò Công Đông,Tỉnh Tiền Giang | O88: 18002564;18C1-KTD1 | V88: DK2828223370661
A89: 79 | B89: Nguyễn Nhật Linh | C89: 8321850347 | D89: 30/10/2000 | K89: 12 | L89: 43466 | M89: Nhà số 473 Ấp 1,Xã Hưng Phong,Huyện Giồng Trôm,Tỉnh Bến Tre | O89: 18003093;18C1-CCK4 | V89: DK2838321850347
A90: 80 | B90: Nguyễn Thị Lan Tuyên | C90: 8321899759 | D90: 31/08/1999 | E90: X | K90: 12 | L90: 43466 | M90: 628 ấp 1,Xã Hưng Phong,Huyện Giồng Trôm,Tỉnh Bến Tre | O90: 18005672;18C1-KTD2 | V90: DK2838321899759
A91: 81 | B91: Nguyễn Chí Tâm | C91: 8321981072 | D91: 10/06/1999 | K91: 12 | L91: 43466 | M91: Ấp 3, Xã Thạnh Trị , Huyện Bình Đại , Tỉnh Bến Tre | O91: 17002659;17C1-CNÔ12 | V91: DK2838321981072
A92: 82 | B92: Huỳnh Văn Bình | C92: 8322114754 | D92: 11/01/1998 | K92: 12 | L92: 43466 | M92: Xã Phú Long , Xã Phú Long , Huyện Bình Đại , Tỉnh Bến Tre | O92: 16001344;16CĐ-Ô2 | V92: DK2838322114754
A93: 83 | B93: Phan Văn Khánh | C93: 8322504715 | D93: 25/05/1998 | K93: 12 | L93: 43466 | M93: Ấp Hưng Long , Xã Hòa Lộc , Huyện Mỏ Cày Bắc , Tỉnh Bến Tre | O93: 17000313;17C1-CNÔ1 | V93: DN4018322504715
A94: 84 | B94: Phan Văn Khang | C94: 8322710611 | D94: 25/05/1998 | K94: 12 | L94: 43466 | M94: Ấp Hưng Long , Xã Hòa Lộc , Huyện Mỏ Cày Bắc , Tỉnh Bến Tre | O94: 17000314;17C1-CNÔ1 | V94: DN4018322710611
A95: 85 | B95: Nguyễn Văn An | C95: 8322809122 | D95: 04/07/2000 | K95: 12 | L95: 43466 | M95: 214/AĐB Ấp 2,Xã An Hiệp,Huyện Ba Tri,Tỉnh Bến Tre | O95: 18002911;18C1-CCK3 | V95: DK2838322809122
A96: 86 | B96: Nguyễn Văn Quốc Duy | C96: 8322861259 | D96: 08/04/1999 | K96: 12 | L96: 43466 | M96: Ấp Chợ Xếp , Xã Tân Thành Bình , Huyện Mỏ Cày Bắc , Tỉnh Bến Tre | O96: 17000456;17C1-CNÔ1 | V96: DN4018322861259
A97: 87 | B97: Lý Đức Phát | C97: 8421373016 | D97: 19/05/1999 | K97: 12 | L97: 43466 | M97: Giống Lớn,Xã Hòa Ân,Huyện Cầu Kè,Tỉnh Trà Vinh | O97: 18005693;18C2-ĐĐT1 | V97: DT2848421373016
A98: 88 | B98: Dư Hữu Phát | C98: 8421974601 | D98: 07/10/2003 | K98: 12 | L98: 43466 | M98: Cây Da,Xã Tập Sơn,Huyện Trà Cú,Tỉnh Trà Vinh | O98: 18001284;18T4-CNÔ5 | V98: DK2848421974601
A99: 89 | B99: Nguyễn Tấn Thành | C99: 8922759335 | D99: 19/04/2000 | K99: 12 | L99: 43466 | M99: Số nhà 487 ấp vĩnh tường 2, Xã Châu Phong,Thị xã Tân Châu,Tỉnh An Giang | O99: 18003762;18C1-CCK5 | V99: DN4758922759335
A100: 90 | B100: Nguyễn Phạm Đan Trường | C100: 9123111491 | D100: 06/04/2000 | K100: 12 | L100: 43466 | M100: Ô Lang,Xã Cửa Dương,Huyện Phú Quốc,Tỉnh Kiên Giang | O100: 18002701;18T2-CNÔ1 | V100: XD2919123111491
A101: 91 | B101: Trần Anh Tuấn | C101: 9521285028 | D101: 08/03/1998 | K101: 12 | L101: 43466 | M101: 23 Hương Lộ 6 , Xã Hưng Hội , Huyện Vĩnh Lợi , Tỉnh Bạc Liêu | O101: 16001510;16CĐ-Ô3 | V101: DK2959521285028
A102: 92 | B102: Huỳnh Chí Bảo | C102: 9621802989 | D102: 09/12/2000 | K102: 12 | L102: 43466 | M102: Ấp Công Nghiệp B ,Xã Khánh Hưng,Huyện Trần Văn Thời,Tỉnh Cà Mau | O102: 18005468;18C1-VSL1 | V102: DK2969621802989
A104: Tổng số thẻ BHYT đề nghị giảm:92
J105: Cơ quan BHXH | O105: …….., ngày ….tháng…..năm…….
A106: Cán bộ thu | C106: Cơ quan Bảo Hiểm Xã Hội | J106: (ký, ghi rõ họ tên và đóng dấu) | M106: Người lập biểu | O106: Hiệu Trưởng

Sheet DS tăng thẻ tháng 6
A1: Tên đơn vị:TRƯỜNG CAO ĐẲNG LÝ TỰ TRỌNG TP. HỒ CHI MINH
A2: Mã đơn vị: BD0240Z | E2: DANH SÁCH TĂNG GIẢM NGƯỜI CHỈ THAM GIA BHYT
A3: Điện thoại liên hệ: 0983430043 | E3: Đợt: 22 tháng 8 năm 2019
A4: Địa chỉ: 390 Hoàng Văn Thụ, Phường 4, Quận Tân Bình, TP. HCM
A6: Đối tượng tham gia:………………………………… | G6: Lương tối thiểu chung:…………….. | K6: Tỷ lệ NS hỗ trợ:………….
A8: STT | B8: Mã số Sinh viên | C8: Lớp | D8: Họ và tên | E8: Mã số | F8: Ngày tháng năm sinh | G8: Nữ | H8: Địa chỉ | I8: Nơi đăng ký KCB ban đầu | L8: Quyền lợi | M8: Số CMND | N8: TỈNH KHAI | O8: HUYỆN KHAI | P8: XÃ KHAI | Q8: Ghi chú thẻ trùng hạn
I9: Tỉnh | J9: Mã BV | K9: Tên Bệnh viện
A10: 1 | D10: 2 | E10: 3 | F10: 4 | G10: 5 | H10: 6 | I10: 7 | J10: 8 | K10: 9 | L10: 10 | M10: 11 | N10: 12
A11: A | D11: Tăng:
A12: 01 | B12: 19004317 | C12: 19C1-ĐĐT3 | D12: Chu Hồng Anh | E12: 7934134137 | F12: 05/10/1999 | G12: Nam | H12: 150/58 đường 26/3, phường Bình Hưng Hòa, quận Bình Tân, Tp.HCM | J12: 025 | K12: BỆNH VIỆN THỐNG NHẤT | M12: 025939746
A13: 02 | B13: 19004341 | C13: 19C1-TĐH1 | D13: Phạm Đức Anh | E13: 6421879793 | F13: 07/12/2001 | G13: Nam | H13: Ry Ninh, thị trấn Ialy , huyện Chưpăh, tỉnh Gia Lai | J13: 025 | K13: BỆNH VIỆN THỐNG NHẤT | M13: 231332158
A14: 03 | B14: 19004043 | C14: 19C1-CNM1 | D14: Phạm Thị Lan Anh | E14: 0 | F14: 15/05/2001 | G14: Nữ | H14: 104/2/1A, ấp 3, xã Đông Thạnh, huyện Hóc Môn,Tp.HCM | J14: 041 | K14: BỆNH VIỆN ĐA KHOA KHU VỰC HÓC MÔN | M14: 036301002871
A15: 04 | B15: 19004352 | C15: 19C1-LĐL1 | D15: Lê Gia Bảo | E15: 5220961285 | F15: 11/11/2001 | G15: Nam | H15: thôn An Quang Đông, xã Cát Khánh, huyện Phù Cát, tỉnh Bình Định | J15: CÓ THẺ | K15: #N/A | M15: 215556315
A16: 05 | B16: 19003997 | C16: 19T4-ANM1 | D16: Trần Quốc Bảo | E16: 7937775623 | F16: 22/04/2003 | G16: Nam | H16: 39/D114 chung cư Huỳnh Văn Chính, phường Phú trung, quận Tân Phú, Tp.HCM | J16: 026 | K16: BỆNH VIỆN CẤP CỨU TRƯNG VƯƠNG | M16: 079203027319
A17: 06 | B17: 19004147 | C17: 19C1-QTD1 | D17: Nguyễn Văn Bảo Châu | E17: 7936878234 | F17: 09/07/1998 | G17: Nam | H17: 449/37/2 Hương Lộ 2, phường Bình Trị Đông, quận Bình Tân, Tp.HCM | J17: 025 | K17: BỆNH VIỆN THỐNG NHẤT | M17: 026041395
A18: 07 | B18: 19002817 | C18: 19T4-VSL1 | D18: Lê Khắc Chiến | E18: 3822150085 | F18: 17/10/1999 | G18: Nam | H18: Thôn Thái Khang, xã Thiệu Hòa, huyện Thiệu Hóa, tỉnh Thanh Hóa | J18: 054 | K18: BỆNH VIỆN QUẬN TÂN PHÚ | M18: 038099013223
A19: 08 | B19: 19003122 | C19: 19C1-CCK3 | D19: Hồ Minh Cường | E19: 7928544751 | F19: 31/10/2000 | G19: Nam | H19: 290/17/4, khu phố 7, đường TA 32, phường Tân Thới An, quận 12, Tp.HCM | J19: 025 | K19: BỆNH VIỆN THỐNG NHẤT | M19: 025995577
A20: 09 | B20: 19003315 | C20: 19C1-KML1 | D20: Tạ Văn Cường | E20: 7935095058 | F20: 22/10/1998 | G20: Nam | H20: tổ 14 ấp Phước Hưng, xã Phước Thạnh, huyện Củ Chi, TPHCM | J20: 040 | K20: BỆNH VIỆN ĐA KHOA KHU VỰC CỦ CHI | M20: 025893982
A21: 10 | B21: 19004034 | C21: 19C1-KTD1 | D21: Nguyễn Linh Đan | E21: 0 | F21: 20/04/2001 | G21: Nữ | H21: Ấp 2 thị trấn Long Phú, huyện Long Phú, tỉnh Sóc Trăng | J21: 025 | K21: BỆNH VIỆN THỐNG NHẤT | M21: 366192534
A22: 11 | B22: 19004329 | C22: 19T4-ĐCN1 | D22: Nguyễn Vỹ Đan | E22: 0 | F22: 17/03/2001 | G22: Nam | H22: 7/116, Tổ 147, Hẻm Tô Ký 3, Đường Tô Ký, Xã Thới Tam Thôn, Huyện Hóc Môn, Thành phố Hồ Chí Minh. | J22: 041 | K22: BỆNH VIỆN ĐA KHOA KHU VỰC HÓC MÔN | M22: 0379652474
A23: 12 | B23: 19003477 | C23: 19C1-CNÔ10 | D23: Huỳnh Phước Đạt | E23: 8023478828 | F23: 18/02/2001 | G23: Nam | H23: Tổ 13 Vĩnh Phước, xã Phước Lý, huyện Cần Giuộc, tỉnh Long An | J23: 025 | K23: BỆNH VIỆN THỐNG NHẤT | M23: 301752816
A24: 13 | B24: 19003935 | C24: 19C1-CCK5 | D24: Nguyễn Tấn Đạt | E24: 8222427075 | F24: 05/04/2001 | G24: Nam | H24: đội 6 ấp Hậu Hoà, xã Hậu Thành, huyện Cái Bè, tỉnh Tiền Giang | J24: 025 | K24: BỆNH VIỆN THỐNG NHẤT | M24: 312458923
A25: 14 | B25: 19004276 | C25: 19T4-CNÔ5 | D25: Nguyễn Khánh Duy | E25: 9622541738 | F25: 23/02/2000 | G25: Nam | H25: ấp Chà Là, xã Trần Phán, huyện Đầm Dơi, tỉnh Cà Mau | J25: 025 | K25: BỆNH VIỆN THỐNG NHẤT | M25: 384908247
A26: 15 | B26: 19000017 | C26: 19C1-CNÔ1 | D26: Đặng Hữu Giác | E26: 9122136081 | F26: 19/10/2000 | G26: Nam | H26: Lô D11, khu dân cư ấp Tân Hoà B,xã Tân Hoà,huyện Tân Hiệp,tỉnh Kiên Giang | J26: 025 | K26: BỆNH VIỆN THỐNG NHẤT | M26: 371901066
A27: 16 | B27: 19003297 | C27: 19C1-QTD1 | D27: Lê Thị Quỳnh Giao | E27: 7928872613 | F27: 24/03/2000 | G27: Nữ | H27: 80 khu phố 5, phường Trung Mỹ Tây, quận 12, Tp.HCM | J27: 025 | K27: BỆNH VIỆN THỐNG NHẤT | M27: 079300007296
... A32: 21 | B32: 19004097 | C32: 19C1-CĐT1 | D32: Nguyễn Vũ Huy | E32: 6822315495 | F32: 30/11/2001 | G32: Nam | H32: Thôn 4, xã Tân Lâm, huyện Di Linh, tỉnh Lâm Đồng | J32: 033 | K32: BỆNH VIỆN QUẬN TÂN BÌNH | M32: 251248947
A33: 22 | B33: 19004184 | C33: 19C1-CNL1 | D33: Phạm Minh Kha | E33: 8023637802 | F33: 20/02/1998 | G33: Nam | H33: tổ 19, ấp Kim Định, xã Tân Kim, huyện Cần Giuộc, tỉnh Long An | J33: 0 | K33: #N/A | M33: 301682122
A34: 23 | B34: 19001923 | C34: 19C1-CCK1 | D34: Trần Văn Khải | E34: 8021767710 | F34: 18/08/2000 | G34: Nam | H34: 63 ấp Láng Đao, xã Thái Bình Trung, huyện Vĩnh Hưng, tỉnh Long An | J34: 033 | K34: BỆNH VIỆN QUẬN TÂN BÌNH | M34: 301754361
A35: 24 | B35: 19003745 | C35: 19C1-CNÔ11 | D35: Trần Quốc Khánh | E35: 6721098244 | F35: 02/12/2001 | G35: Nam | H35: tổ dân phố 3, phường Nghĩa Tân, thị xã Gia Nghĩa, tỉnh Đak Nông | J35: 025 | K35: BỆNH VIỆN THỐNG NHẤT | M35: 245458851
A36: 25 | B36: 19003968 | C36: 19C1-CNÔ12 | D36: Trần Ngọc Đăng Khoa | E36: 7932260973 | F36: 31/07/2001 | G36: Nam | H36: 134/109/761 Lý Chính Thắng, phường 7, quận 3 ,TP.HCM | J36: 009 | K36: BỆNH VIỆN QUẬN 3 | M36: 079201005826
A37: 26 | B37: 19003744 | C37: 19C1-KML2 | D37: Lê Thành Khôi | E37: 7221368080 | F37: 22/02/2001 | G37: Nam | H37: 60 Nguyễn hữu Thọ, tổ 15, khu phố 2, thị trấn Tân Biên, huyện Tân Biên, Tỉnh Tây Ninh | J37: 025 | K37: BỆNH VIỆN THỐNG NHẤT | M37: 072201006192
A38: 27 | B38: 19002745 | C38: 19C1-CCK2 | D38: Nguyễn Thanh Lâm | E38: 8621683867 | F38: 01/09/2000 | G38: Nam | H38: Ấp An Điền 2, Xã Trung Hiếu, Huyện Vũng Liêm , Tỉnh Vĩnh Long | J38: 013 | K38: BỆNH VIỆN NGUYỄN TRI PHƯƠNG | M38: 331924862
A39: 28 | B39: 19003530 | C39: 19C1-CCK4 | D39: Nguyễn Hoàng Xuân Lảm | E39: 8022930812 | F39: 21/02/2001 | G39: Nam | H39: 162A tổ 6, ấp Thuận Bắc, xã Thuận Thành, huyện Cần Giuộc, tỉnh Long An | J39: 025 | K39: BỆNH VIỆN THỐNG NHẤT | M39: 301791148
A40: 29 | B40: 19003604 | C40: 19C1-QTD1 | D40: Nguyễn Hồng Lý | E40: 8022897681 | F40: 30/04/2001 | G40: Nữ | H40: Tổ 6 ấp Kim Điền, xã Tân Kim, huyện Cần Giuộc, tỉnh Long An | J40: 025 | K40: BỆNH VIỆN THỐNG NHẤT | M40: 301773635
A41: 30 | B41: 19004142 | C41: 19C1-ANM1 | D41: Trần Công Minh | E41: 7221366245 | F41: 15/11/1998 | G41: Nam | H41: Tổ 2 KP7, thị trấn Tân Biên, huyện Tân Biên, tỉnh Tây Ninh | J41: 025 | K41: BỆNH VIỆN THỐNG NHẤT | M41: 079098000018
A42: 31 | B42: 19002121 | C42: 19C1-CCK1 | D42: Đinh Công Nam | E42: 7935505067 | F42: 09/09/1998 | G42: Nam | H42: 535 tỉnh lộ 15, ấp Bến Đình, xã Nhuận Đức, huyện Củ Chi, Tp.HCM | J42: 011 | K42: BỆNH VIỆN 30/4 | M42: 070098000047
A43: 32 | B43: 19004224 | C43: 19C1-LTM1 | D43: Huỳnh Khánh Nam | E43: 5121140338 | F43: 28/03/1997 | G43: Nam | H43: khu dân cư 3 thôn Nga Mân, xã Phổ Cường, huyện Đức Phổ, tỉnh Quảng Ngãi | J43: 025 | K43: BỆNH VIỆN THỐNG NHẤT | M43: 212279197
A44: 33 | B44: 19004199 | C44: 19C1-CĐT1 | D44: Nguyễn Đông Hoài Nam | E44: 7938103913 | F44: 30/04/1999 | G44: Nam | H44: Thôn Hộ Diêm, xã Hộ Hải, huyện Ninh Hải, tỉnh Ninh Thuận | J44: 025 | K44: BỆNH VIỆN THỐNG NHẤT | M44: 264534454
A45: 34 | B45: 19004040 | C45: 19C1-KTD1 | D45: Nguyễn Thị Thu Ngân | E45: 8022632365 | F45: 10/05/2001 | G45: Nữ | H45: 126 ấp 4, xã Tân Ân, huyện Cần Đước, tỉnh Long An | J45: 025 | K45: BỆNH VIỆN THỐNG NHẤT | M45: 301764895
... A63: 52 | B63: 19003965 | C63: 19C1-ĐCN2 | D63: Nguyễn Đức Thành | E63: 6021539491 | F63: 12/10/2001 | G63: Nam | H63: Xóm 1, thôn Phú Thuận, xã Đức Thuận, huyện Tánh Linh, tỉnh Bình Thuận | J63: 016 | K63: BỆNH VIỆN 7A | M63: 261644265
A64: 53 | B64: 19002569 | C64: 19C1-CCK2 | D64: Nguyễn Phú Thuận | E64: 8421678067 | F64: 14/02/2001 | G64: Nam | H64: Ấp An Chay, xã An Mỹ, huyện Châu Thành, tỉnh Trà Vinh | J64: 033 | K64: BỆNH VIỆN QUẬN TÂN BÌNH
A65: 54 | B65: 19003042 | C65: 19C1-KML1 | D65: Phan Minh Triết | E65: 8023213635 | F65: 16/07/2001 | G65: Nam | H65: Ấp Thuận Tây 2, xã Thuận Thành, huyện Cần Giuộc, tỉnh Long An | J65: 033 | K65: BỆNH VIỆN QUẬN TÂN BÌNH | M65: 301753706
A66: 55 | B66: 19004143 | C66: 19C1-ANM1 | D66: Phạm Xuân Trường | E66: 7222389612 | F66: 05/10/1999 | G66: Nam | H66: Số nhà 473 tổ 2, ấp Thạnh Trung, xã Thạnh Tây, huyện Tân Biên, tỉnh Tây Ninh | J66: 025 | K66: BỆNH VIỆN THỐNG NHẤT | M66: 072099002680
A67: 56 | B67: 19004020 | C67: 19T4-KML1 | D67: Lê Phước Minh Tú | E67: 7716050004 | F67: 12/06/1998 | G67: Nam | H67: đường 39 thôn Trung Nghĩa, xã Nghĩa Thành, huyện Châu Đức, tỉnh Bà Rịa-Vũng Tàu | J67: 025 | K67: BỆNH VIỆN THỐNG NHẤT | M67: 077098001074
A68: 57 | B68: 19002409 | C68: 19C1-ĐCN1 | D68: Nguyễn Anh Tuấn | E68: 8023135953 | F68: 05/07/2001 | G68: Nam | H68: 76A2 ấp 1A, xã Xuân Thanh Phú, huyện Bến Lức, tỉnh Long An | J68: 025 | K68: BỆNH VIỆN THỐNG NHẤT | M68: 301762727
A69: 58 | B69: 19004080 | C69: 19T2-CCK1 | D69: Phạm Tuấn | E69: 0 | F69: 25/10/2000 | G69: Nam | H69: 115 Trần Hưng Đạo, thị trấn Phan Rí Cửa, huyện Tuy Phong, Bình Thuận | J69: 025 | K69: BỆNH VIỆN THỐNG NHẤT | M69: 261516484
A70: 59 | B70: 19003268 | C70: 19T4-ANM1 | D70: Nguyễn Thị Thúy Vy | E70: 7938049521 | F70: 11/11/2003 | G70: Nữ | H70: 93/7, khu phố 6, phường Tân Thới Nhất, quận 12,TP.HCM | J70: 029 | K70: BỆNH VIỆN QUẬN 12 | M70: 19003268
A71: B | D71: Giảm
D74: * Phần đơn vị ghi:
D75: - Tổng số người tăng đợt này: 59 thời hạn thẻ từ ngày 01/09/2019 đến 31/12/2019
D76: - Tổng số người giảm đợt này: 0 người, số thẻ BHYT thu hồi: 0 thẻ.
D78: * Phần cơ quan BHXH ghi:
D79: - Tổng số thẻ BHYT đề nghị cấp:…………….thẻ.
D80: - Thời hạn sử dụng thẻ từ ngày…….…/…..…/…….… đến…….…./…..…/…….….
D81: - Tổng số thẻ BHYT thu hồi:……………………..thẻ.
G83: ……., ngày..... tháng...... năm.......... | L83: …….., ngày ….tháng…..năm…….
A84: Cán bộ thu | E84: Cán bộ sổ, thẻ | G84: Giám đốc BHXH | I84: Người lập biểu | L84: Thủ trưởng đơn vị
A85: (Ký, ghi họ tên) | E85: (Ký, ghi họ tên) | G85: (Ký, ghi họ tên) | I85: (Ký, ghi họ tên) | L85: (Ký tên, đóng dấu)
I89: Bùi Thị Lan Anh

Sheet Sheet1
A3: 19004317 | B3: 19C1-ĐĐT3 | C3: Chu Hồng Anh | D3: 05/10/1999 | E3: =VLOOKUP(A3,Sheet2!$B$2:$D$4381,3,0) -> 0 | F3: 0 | G3: =VLOOKUP(A3,Sheet2!$B$2:$E$4381,4,0) -> 025 | H3: 025 | I3: =VLOOKUP(A3,Sheet2!$B$2:$F$4381,5,0) -> BỆNH VIỆN THỐNG NHẤT
A4: 19004341 | B4: 19C1-TĐH1 | C4: Phạm Đức Anh | D4: 07/12/2001 | E4: =VLOOKUP(A4,Sheet2!$B$2:$D$4381,3,0) -> 0 | F4: 0 | G4: =VLOOKUP(A4,Sheet2!$B$2:$E$4381,4,0) -> 025 | H4: 025 | I4: =VLOOKUP(A4,Sheet2!$B$2:$F$4381,5,0) -> BỆNH VIỆN THỐNG NHẤT
A5: 19004043 | B5: 19C1-CNM1 | C5: Phạm Thị Lan Anh | D5: 15/05/2001 | E5: =VLOOKUP(A5,Sheet2!$B$2:$D$4381,3,0) -> 0 | F5: 0 | G5: =VLOOKUP(A5,Sheet2!$B$2:$E$4381,4,0) -> 041 | H5: 041 | I5: =VLOOKUP(A5,Sheet2!$B$2:$F$4381,5,0) -> BỆNH VIỆN ĐA KHOA KHU VỰC HÓC MÔN
A6: 19004352 | B6: 19C1-LĐL1 | C6: Lê Gia Bảo | D6: 11/11/2001 | E6: =VLOOKUP(A6,Sheet2!$B$2:$D$4381,3,0) -> DK2525220961285 | F6: DK2525220961285 | G6: =VLOOKUP(A6,Sheet2!$B$2:$E$4381,4,0) -> CÓ THẺ | H6: CÓ THẺ | I6: =VLOOKUP(A6,Sheet2!$B$2:$F$4381,5,0) -> #N/A
A7: 19003997 | B7: 19T4-ANM1 | C7: Trần Quốc Bảo | D7: 22/04/2003 | E7: =VLOOKUP(A7,Sheet2!$B$2:$D$4381,3,0) -> 0 | F7: 0 | G7: =VLOOKUP(A7,Sheet2!$B$2:$E$4381,4,0) -> 026 | H7: 026 | I7: =VLOOKUP(A7,Sheet2!$B$2:$F$4381,5,0) -> BỆNH VIỆN CẤP CỨU TRƯNG VƯƠNG
A8: 19004147 | B8: 19C1-QTD1 | C8: Nguyễn Văn Bảo Châu | D8: 09/07/1998 | E8: =VLOOKUP(A8,Sheet2!$B$2:$D$4381,3,0) -> 17C1-NNA1 | F8: 17C1-NNA1 | G8: =VLOOKUP(A8,Sheet2!$B$2:$E$4381,4,0) -> 025 | H8: 025 | I8: =VLOOKUP(A8,Sheet2!$B$2:$F$4381,5,0) -> BỆNH VIỆN THỐNG NHẤT
A9: 19002817 | B9: 19T4-VSL1 | C9: Lê Khắc Chiến | D9: 17/10/1999 | E9: =VLOOKUP(A9,Sheet2!$B$2:$D$4381,3,0) -> DN4743822150085 | F9: DN4743822150085 | G9: =VLOOKUP(A9,Sheet2!$B$2:$E$4381,4,0) -> 054 | H9: 054 | I9: =VLOOKUP(A9,Sheet2!$B$2:$F$4381,5,0) -> BỆNH VIỆN QUẬN TÂN PHÚ
A10: 19003122 | B10: 19C1-CCK3 | C10: Hồ Minh Cường | D10: 31/10/2000 | E10: =VLOOKUP(A10,Sheet2!$B$2:$D$4381,3,0) -> 0 | F10: 0 | G10: =VLOOKUP(A10,Sheet2!$B$2:$E$4381,4,0) -> 025 | H10: 025 | I10: =VLOOKUP(A10,Sheet2!$B$2:$F$4381,5,0) -> BỆNH VIỆN THỐNG NHẤT
A11: 19003315 | B11: 19C1-KML1 | C11: Tạ Văn Cường | D11: 22/10/1998 | E11: =VLOOKUP(A11,Sheet2!$B$2:$D$4381,3,0) -> 0 | F11: 0 | G11: =VLOOKUP(A11,Sheet2!$B$2:$E$4381,4,0) -> 040 | H11: 040 | I11: =VLOOKUP(A11,Sheet2!$B$2:$F$4381,5,0) -> BỆNH VIỆN ĐA KHOA KHU VỰC CỦ CHI
A12: 19004034 | B12: 19C1-KTD1 | C12: Nguyễn Linh Đan | D12: 20/04/2001 | E12: =VLOOKUP(A12,Sheet2!$B$2:$D$4381,3,0) -> 0 | F12: 0 | G12: =VLOOKUP(A12,Sheet2!$B$2:$E$4381,4,0) -> 025 | H12: 025 | I12: =VLOOKUP(A12,Sheet2!$B$2:$F$4381,5,0) -> BỆNH VIỆN THỐNG NHẤT
A13: 19004329 | B13: 19T4-ĐCN1 | C13: Nguyễn Vỹ Đan | D13: 17/03/2001 | E13: =VLOOKUP(A13,Sheet2!$B$2:$D$4381,3,0) -> 0 | F13: 0 | G13: =VLOOKUP(A13,Sheet2!$B$2:$E$4381,4,0) -> 041 | H13: 041 | I13: =VLOOKUP(A13,Sheet2!$B$2:$F$4381,5,0) -> BỆNH VIỆN ĐA KHOA KHU VỰC HÓC MÔN
A14: 19003477 | B14: 19C1-CNÔ10 | C14: Huỳnh Phước Đạt | D14: 18/02/2001 | E14: =VLOOKUP(A14,Sheet2!$B$2:$D$4381,3,0) -> HS4808023478828 | F14: HS4808023478828 | G14: =VLOOKUP(A14,Sheet2!$B$2:$E$4381,4,0) -> 025 | H14: 025 | I14: =VLOOKUP(A14,Sheet2!$B$2:$F$4381,5,0) -> BỆNH VIỆN THỐNG NHẤT
A15: 19003935 | B15: 19C1-CCK5 | C15: Nguyễn Tấn Đạt | D15: 05/04/2001 | E15: =VLOOKUP(A15,Sheet2!$B$2:$D$4381,3,0) -> HS4828222427075 | F15: HS4828222427075 | G15: =VLOOKUP(A15,Sheet2!$B$2:$E$4381,4,0) -> 025 | H15: 025 | I15: =VLOOKUP(A15,Sheet2!$B$2:$F$4381,5,0) -> BỆNH VIỆN THỐNG NHẤT
A16: 19004276 | B16: 19T4-CNÔ5 | C16: Nguyễn Khánh Duy | D16: 23/02/2000 | E16: =VLOOKUP(A16,Sheet2!$B$2:$D$4381,3,0) -> HS4969622541738 | F16: HS4969622541738 | G16: =VLOOKUP(A16,Sheet2!$B$2:$E$4381,4,0) -> 025 | H16: 025 | I16: =VLOOKUP(A16,Sheet2!$B$2:$F$4381,5,0) -> BỆNH VIỆN THỐNG NHẤT
A17: 19000017 | B17: 19C1-CNÔ1 | C17: Đặng Hữu Giác | D17: 19/10/2000 | E17: =VLOOKUP(A17,Sheet2!$B$2:$D$4381,3,0) -> 0 | F17: 0 | G17: =VLOOKUP(A17,Sheet2!$B$2:$E$4381,4,0) -> 025 | H17: 025 | I17: =VLOOKUP(A17,Sheet2!$B$2:$F$4381,5,0) -> BỆNH VIỆN THỐNG NHẤT
A18: 19003297 | B18: 19C1-QTD1 | C18: Lê Thị Quỳnh Giao | D18: 24/03/2000 | E18: =VLOOKUP(A18,Sheet2!$B$2:$D$4381,3,0) -> 0 | F18: 0 | G18: =VLOOKUP(A18,Sheet2!$B$2:$E$4381,4,0) -> 025 | H18: 025 | I18: =VLOOKUP(A18,Sheet2!$B$2:$F$4381,5,0) -> BỆNH VIỆN THỐNG NHẤT
A19: 19003200 | B19: 19C1-NNA1 | C19: Huỳnh Thị Khánh Hà | D19: 12/02/2001 | E19: =VLOOKUP(A19,Sheet2!$B$2:$D$4381,3,0) -> HS4808023357073 | F19: HS4808023357073 | G19: =VLOOKUP(A19,Sheet2!$B$2:$E$4381,4,0) -> 025 | H19: 025 | I19: =VLOOKUP(A19,Sheet2!$B$2:$F$4381,5,0) -> BỆNH VIỆN THỐNG NHẤT
A20: 19003021 | B20: 19C1-ĐCN1 | C20: Nguyễn Văn Hậu | D20: 16/04/2001 | E20: =VLOOKUP(A20,Sheet2!$B$2:$D$4381,3,0) -> HS4808022657942 | F20: HS4808022657942 | G20: =VLOOKUP(A20,Sheet2!$B$2:$E$4381,4,0) -> 025 | H20: 025 | I20: =VLOOKUP(A20,Sheet2!$B$2:$F$4381,5,0) -> BỆNH VIỆN THỐNG NHẤT
A21: 19003089 | B21: 19C1-QTD1 | C21: Nguyễn Văn Hoàng | D21: 19/10/2001 | E21: =VLOOKUP(A21,Sheet2!$B$2:$D$4381,3,0) -> HS4606021176921 | F21: HS4606021176921 | G21: =VLOOKUP(A21,Sheet2!$B$2:$E$4381,4,0) -> 025 | H21: 025 | I21: =VLOOKUP(A21,Sheet2!$B$2:$F$4381,5,0) -> BỆNH VIỆN THỐNG NHẤT
A22: 19003565 | B22: 19T4-KTD2 | C22: Lê Hoàng Huy | D22: 17/01/1998 | E22: =VLOOKUP(A22,Sheet2!$B$2:$D$4381,3,0) -> 0 | F22: 0 | G22: =VLOOKUP(A22,Sheet2!$B$2:$E$4381,4,0) -> 025 | H22: 025 | I22: =VLOOKUP(A22,Sheet2!$B$2:$F$4381,5,0) -> BỆNH VIỆN THỐNG NHẤT
A23: 19004097 | B23: 19C1-CĐT1 | C23: Nguyễn Vũ Huy | D23: 30/11/2001 | E23: =VLOOKUP(A23,Sheet2!$B$2:$D$4381,3,0) -> HS4686822315495 | F23: HS4686822315495 | G23: =VLOOKUP(A23,Sheet2!$B$2:$E$4381,4,0) -> 033 | H23: 033 | I23: =VLOOKUP(A23,Sheet2!$B$2:$F$4381,5,0) -> BỆNH VIỆN QUẬN TÂN BÌNH
A24: 19004184 | B24: 19C1-CNL1 | C24: Phạm Minh Kha | D24: 20/02/1998 | E24: =VLOOKUP(A24,Sheet2!$B$2:$D$4381,3,0) -> DN4808023637802 | F24: DN4808023637802 | G24: =VLOOKUP(A24,Sheet2!$B$2:$E$4381,4,0) -> 0 | H24: 0 | I24: =VLOOKUP(A24,Sheet2!$B$2:$F$4381,5,0) -> #N/A
A25: 19001923 | B25: 19C1-CCK1 | C25: Trần Văn Khải | D25: 18/08/2000 | E25: =VLOOKUP(A25,Sheet2!$B$2:$D$4381,3,0) -> HS 4808021767710 | F25: HS 4808021767710 | G25: =VLOOKUP(A25,Sheet2!$B$2:$E$4381,4,0) -> 033 | H25: 033 | I25: =VLOOKUP(A25,Sheet2!$B$2:$F$4381,5,0) -> BỆNH VIỆN QUẬN TÂN BÌNH
A26: 19003745 | B26: 19C1-CNÔ11 | C26: Trần Quốc Khánh | D26: 02/12/2001 | E26: =VLOOKUP(A26,Sheet2!$B$2:$D$4381,3,0) -> HS4676721098244 | F26: HS4676721098244 | G26: =VLOOKUP(A26,Sheet2!$B$2:$E$4381,4,0) -> 025 | H26: 025 | I26: =VLOOKUP(A26,Sheet2!$B$2:$F$4381,5,0) -> BỆNH VIỆN THỐNG NHẤT
A27: 19003968 | B27: 19C1-CNÔ12 | C27: Trần Ngọc Đăng Khoa | D27: 31/07/2001 | E27: =VLOOKUP(A27,Sheet2!$B$2:$D$4381,3,0) -> 0 | F27: 0 | G27: =VLOOKUP(A27,Sheet2!$B$2:$E$4381,4,0) -> 009 | H27: 009 | I27: =VLOOKUP(A27,Sheet2!$B$2:$F$4381,5,0) -> BỆNH VIỆN QUẬN 3
A28: 19003744 | B28: 19C1-KML2 | C28: Lê Thành Khôi | D28: 22/02/2001 | E28: =VLOOKUP(A28,Sheet2!$B$2:$D$4381,3,0) -> GD4727221368080 | F28: GD4727221368080 | G28: =VLOOKUP(A28,Sheet2!$B$2:$E$4381,4,0) -> 025 | H28: 025 | I28: =VLOOKUP(A28,Sheet2!$B$2:$F$4381,5,0) -> BỆNH VIỆN THỐNG NHẤT
A29: 19002745 | B29: 19C1-CCK2 | C29: Nguyễn Thanh Lâm | D29: 01/09/2000 | E29: =VLOOKUP(A29,Sheet2!$B$2:$D$4381,3,0) -> HS4868621683867 | F29: HS4868621683867 | G29: =VLOOKUP(A29,Sheet2!$B$2:$E$4381,4,0) -> 013 | H29: 013 | I29: =VLOOKUP(A29,Sheet2!$B$2:$F$4381,5,0) -> BỆNH VIỆN NGUYỄN TRI PHƯƠNG
A30: 19003530 | B30: 19C1-CCK4 | C30: Nguyễn Hoàng Xuân Lảm | D30: 21/02/2001 | E30: =VLOOKUP(A30,Sheet2!$B$2:$D$4381,3,0) -> 0 | F30: 0 | G30: =VLOOKUP(A30,Sheet2!$B$2:$E$4381,4,0) -> 025 | H30: 025 | I30: =VLOOKUP(A30,Sheet2!$B$2:$F$4381,5,0) -> BỆNH VIỆN THỐNG NHẤT
A31: 19003604 | B31: 19C1-QTD1 | C31: Nguyễn Hồng Lý | D31: 30/04/2001 | E31: =VLOOKUP(A31,Sheet2!$B$2:$D$4381,3,0) -> 0 | F31: 0 | G31: =VLOOKUP(A31,Sheet2!$B$2:$E$4381,4,0) -> 025 | H31: 025 | I31: =VLOOKUP(A31,Sheet2!$B$2:$F$4381,5,0) -> BỆNH VIỆN THỐNG NHẤT
A32: 19004142 | B32: 19C1-ANM1 | C32: Trần Công Minh | D32: 15/11/1998 | E32: =VLOOKUP(A32,Sheet2!$B$2:$D$4381,3,0) -> 0 | F32: 0 | G32: =VLOOKUP(A32,Sheet2!$B$2:$E$4381,4,0) -> 025 | H32: 025 | I32: =VLOOKUP(A32,Sheet2!$B$2:$F$4381,5,0) -> BỆNH VIỆN THỐNG NHẤT
A33: 19002121 | B33: 19C1-CCK1 | C33: Đinh Công Nam | D33: 09/09/1998 | E33: =VLOOKUP(A33,Sheet2!$B$2:$D$4381,3,0) -> 0 | F33: 0 | G33: =VLOOKUP(A33,Sheet2!$B$2:$E$4381,4,0) -> 011 | H33: 011 | I33: =VLOOKUP(A33,Sheet2!$B$2:$F$4381,5,0) -> BỆNH VIỆN 30/4
A34: 19004224 | B34: 19C1-LTM1 | C34: Huỳnh Khánh Nam | D34: 28/03/1997 | E34: =VLOOKUP(A34,Sheet2!$B$2:$D$4381,3,0) -> 0 | F34: 0 | G34: =VLOOKUP(A34,Sheet2!$B$2:$E$4381,4,0) -> 025 | H34: 025 | I34: =VLOOKUP(A34,Sheet2!$B$2:$F$4381,5,0) -> BỆNH VIỆN THỐNG NHẤT
A35: 19004199 | B35: 19C1-CĐT1 | C35: Nguyễn Đông Hoài Nam | D35: 30/04/1999 | E35: =VLOOKUP(A35,Sheet2!$B$2:$D$4381,3,0) -> SV4797938103913 | F35: SV4797938103913 | G35: =VLOOKUP(A35,Sheet2!$B$2:$E$4381,4,0) -> 025 | H35: 025 | I35: =VLOOKUP(A35,Sheet2!$B$2:$F$4381,5,0) -> BỆNH VIỆN THỐNG NHẤT
A36: 19004040 | B36: 19C1-KTD1 | C36: Nguyễn Thị Thu Ngân | D36: 10/05/2001 | E36: =VLOOKUP(A36,Sheet2!$B$2:$D$4381,3,0) -> HS4808022632365 | F36: HS4808022632365 | G36: =VLOOKUP(A36,Sheet2!$B$2:$E$4381,4,0) -> 025 | H36: 025 | I36: =VLOOKUP(A36,Sheet2!$B$2:$F$4381,5,0) -> BỆNH VIỆN THỐNG NHẤT
A37: 19003020 | B37: 19C1-KTD1 | C37: Phan Thị Thanh Ngân | D37: 16/11/2001 | E37: =VLOOKUP(A37,Sheet2!$B$2:$D$4381,3,0) -> HS4808023216245 | F37: HS4808023216245 | G37: =VLOOKUP(A37,Sheet2!$B$2:$E$4381,4,0) -> 033 | H37: 033 | I37: =VLOOKUP(A37,Sheet2!$B$2:$F$4381,5,0) -> BỆNH VIỆN QUẬN TÂN BÌNH
A38: 19003287 | B38: 19C1-QTD1 | C38: Trang Thị Yến Ngọc | D38: 10/02/2001 | E38: =VLOOKUP(A38,Sheet2!$B$2:$D$4381,3,0) -> 0 | F38: 0 | G38: =VLOOKUP(A38,Sheet2!$B$2:$E$4381,4,0) -> 025 | H38: 025 | I38: =VLOOKUP(A38,Sheet2!$B$2:$F$4381,5,0) -> BỆNH VIỆN THỐNG NHẤT
A39: 19002356 | B39: 19C1-CNÔ7 | C39: Phan Minh Nhật | D39: 31/07/2001 | E39: =VLOOKUP(A39,Sheet2!$B$2:$D$4381,3,0) -> HS4808022807295 | F39: HS4808022807295 | G39: =VLOOKUP(A39,Sheet2!$B$2:$E$4381,4,0) -> 033 | H39: 033 | I39: =VLOOKUP(A39,Sheet2!$B$2:$F$4381,5,0) -> BỆNH VIỆN QUẬN TÂN BÌNH
A40: 19002746 | B40: 19T4-CKC1 | C40: Lê Đại Phát | D40: 12/06/2004 | E40: =VLOOKUP(A40,Sheet2!$B$2:$D$4381,3,0) -> GD4757524574125 | F40: GD4757524574125 | G40: =VLOOKUP(A40,Sheet2!$B$2:$E$4381,4,0) -> 025 | H40: 025 | I40: =VLOOKUP(A40,Sheet2!$B$2:$F$4381,5,0) -> BỆNH VIỆN THỐNG NHẤT
A41: 19002828 | B41: 19C1-VSL1 | C41: Nguyễn Tấn Phát | D41: 12/03/2001 | E41: =VLOOKUP(A41,Sheet2!$B$2:$D$4381,3,0) -> HS4808022674923 | F41: HS4808022674923 | G41: =VLOOKUP(A41,Sheet2!$B$2:$E$4381,4,0) -> 033 | H41: 033 | I41: =VLOOKUP(A41,Sheet2!$B$2:$F$4381,5,0) -> BỆNH VIỆN QUẬN TÂN BÌNH
A42: 19002957 | B42: 19C1-TKW1 | C42: Nguyễn Bùi Thiên Phước | D42: 24/11/1997 | E42: =VLOOKUP(A42,Sheet2!$B$2:$D$4381,3,0) -> MUA THẺ MỚI 9-12 | F42: MUA THẺ MỚI 9-12 | G42: =VLOOKUP(A42,Sheet2!$B$2:$E$4381,4,0) -> 025 | H42: 025 | I42: =VLOOKUP(A42,Sheet2!$B$2:$F$4381,5,0) -> BỆNH VIỆN THỐNG NHẤT
A43: 19002673 | B43: 19C1-ĐCN1 | C43: Trần Minh Quang | D43: 10/03/2001 | E43: =VLOOKUP(A43,Sheet2!$B$2:$D$4381,3,0) -> HS4808023477508 | F43: HS4808023477508 | G43: =VLOOKUP(A43,Sheet2!$B$2:$E$4381,4,0) -> 033 | H43: 033 | I43: =VLOOKUP(A43,Sheet2!$B$2:$F$4381,5,0) -> BỆNH VIỆN QUẬN TÂN BÌNH
A44: 19004243 | B44: 19C1-ĐCN3 | C44: Võ Văn Quang | D44: 11/05/2001 | E44: =VLOOKUP(A44,Sheet2!$B$2:$D$4381,3,0) -> HS4808022097891 | F44: HS4808022097891 | G44: =VLOOKUP(A44,Sheet2!$B$2:$E$4381,4,0) -> 025 | H44: 025 | I44: =VLOOKUP(A44,Sheet2!$B$2:$F$4381,5,0) -> BỆNH VIỆN THỐNG NHẤT
A45: 19004272 | B45: 19C1-KXD1 | C45: Võ Vinh Quang | D45: 01/08/2001 | E45: =VLOOKUP(A45,Sheet2!$B$2:$D$4381,3,0) -> 0 | F45: 0 | G45: =VLOOKUP(A45,Sheet2!$B$2:$E$4381,4,0) -> 040 | H45: 040 | I45: =VLOOKUP(A45,Sheet2!$B$2:$F$4381,5,0) -> BỆNH VIỆN ĐA KHOA KHU VỰC CỦ CHI
A46: 19001863 | B46: 19C1-CNÔ3 | C46: Phạm Ngọc Quí | D46: 12/01/2001 | E46: =VLOOKUP(A46,Sheet2!$B$2:$D$4381,3,0) -> HS4808022610688 | F46: HS4808022610688 | G46: =VLOOKUP(A46,Sheet2!$B$2:$E$4381,4,0) -> 025 | H46: 025 | I46: =VLOOKUP(A46,Sheet2!$B$2:$F$4381,5,0) -> BỆNH VIỆN THỐNG NHẤT
A47: 19003508 | B47: 19C1-CNÔ10 | C47: Nguyễn Ngọc Anh Quốc | D47: 01/04/2001 | E47: =VLOOKUP(A47,Sheet2!$B$2:$D$4381,3,0) -> 0 | F47: 0 | G47: =VLOOKUP(A47,Sheet2!$B$2:$E$4381,4,0) -> 030 | H47: 030 | I47: =VLOOKUP(A47,Sheet2!$B$2:$F$4381,5,0) -> BỆNH VIỆN NHÂN DÂN GIA ĐỊNH
A48: 19003862 | B48: 19C1-CNÔ12 | C48: Nguyễn Thiên Quý | D48: 08/11/2000 | E48: =VLOOKUP(A48,Sheet2!$B$2:$D$4381,3,0) -> 0 | F48: 0 | G48: =VLOOKUP(A48,Sheet2!$B$2:$E$4381,4,0) -> 025 | H48: 025 | I48: =VLOOKUP(A48,Sheet2!$B$2:$F$4381,5,0) -> BỆNH VIỆN THỐNG NHẤT
A49: 19004159 | B49: 19C1-QTM1 | C49: Huỳnh Kim Sang | D49: 09/04/1998 | E49: =VLOOKUP(A49,Sheet2!$B$2:$D$4381,3,0) -> 0 | F49: 0 | G49: =VLOOKUP(A49,Sheet2!$B$2:$E$4381,4,0) -> 004 | H49: 004 | I49: =VLOOKUP(A49,Sheet2!$B$2:$F$4381,5,0) -> BỆNH VIỆN QUẬN 1 - CƠ SỞ II
A50: 19003273 | B50: 19T2-QTD1 | C50: Nguyễn Lê Tấn Tài | D50: 16/10/2000 | E50: =VLOOKUP(A50,Sheet2!$B$2:$D$4381,3,0) -> 0 | F50: 0 | G50: =VLOOKUP(A50,Sheet2!$B$2:$E$4381,4,0) -> 025 | H50: 025 | I50: =VLOOKUP(A50,Sheet2!$B$2:$F$4381,5,0) -> BỆNH VIỆN THỐNG NHẤT
A51: 19002754 | B51: 19C1-ĐĐT1 | C51: Trương Quốc Thắng | D51: 13/02/2000 | E51: =VLOOKUP(A51,Sheet2!$B$2:$D$4381,3,0) -> HS4797935168008 | F51: HS4797935168008 | G51: =VLOOKUP(A51,Sheet2!$B$2:$E$4381,4,0) -> 040 | H51: 040 | I51: =VLOOKUP(A51,Sheet2!$B$2:$F$4381,5,0) -> BỆNH VIỆN ĐA KHOA KHU VỰC CỦ CHI
A52: 19003766 | B52: 19C1-CCK5 | C52: Huỳnh Quốc Thanh | D52: 20/02/2001 | E52: =VLOOKUP(A52,Sheet2!$B$2:$D$4381,3,0) -> HS4808022804430 | F52: HS4808022804430 | G52: =VLOOKUP(A52,Sheet2!$B$2:$E$4381,4,0) -> 025 | H52: 025 | I52: =VLOOKUP(A52,Sheet2!$B$2:$F$4381,5,0) -> BỆNH VIỆN THỐNG NHẤT
A53: 19002533 | B53: 19C1-CCK2 | C53: Lê Trần Tuấn Thành | D53: 28/07/2001 | E53: =VLOOKUP(A53,Sheet2!$B$2:$D$4381,3,0) -> 0 | F53: 0 | G53: =VLOOKUP(A53,Sheet2!$B$2:$E$4381,4,0) -> 040 | H53: 040 | I53: =VLOOKUP(A53,Sheet2!$B$2:$F$4381,5,0) -> BỆNH VIỆN ĐA KHOA KHU VỰC CỦ CHI
A54: 19003965 | B54: 19C1-ĐCN2 | C54: Nguyễn Đức Thành | D54: 12/10/2001 | E54: =VLOOKUP(A54,Sheet2!$B$2:$D$4381,3,0) -> HS4606021539491 | F54: HS4606021539491 | G54: =VLOOKUP(A54,Sheet2!$B$2:$E$4381,4,0) -> 016 | H54: 016 | I54: =VLOOKUP(A54,Sheet2!$B$2:$F$4381,5,0) -> BỆNH VIỆN 7A
A55: 19002569 | B55: 19C1-CCK2 | C55: Nguyễn Phú Thuận | D55: 14/02/2001 | E55: =VLOOKUP(A55,Sheet2!$B$2:$D$4381,3,0) -> HS4848421678067 | F55: HS4848421678067 | G55: =VLOOKUP(A55,Sheet2!$B$2:$E$4381,4,0) -> 033 | H55: 033 | I55: =VLOOKUP(A55,Sheet2!$B$2:$F$4381,5,0) -> BỆNH VIỆN QUẬN TÂN BÌNH
A56: 19003042 | B56: 19C1-KML1 | C56: Phan Minh Triết | D56: 16/07/2001 | E56: =VLOOKUP(A56,Sheet2!$B$2:$D$4381,3,0) -> HS4808023213635 | F56: HS4808023213635 | G56: =VLOOKUP(A56,Sheet2!$B$2:$E$4381,4,0) -> 033 | H56: 033 | I56: =VLOOKUP(A56,Sheet2!$B$2:$F$4381,5,0) -> BỆNH VIỆN QUẬN TÂN BÌNH
A57: 19004143 | B57: 19C1-ANM1 | C57: Phạm Xuân Trường | D57: 05/10/1999 | E57: =VLOOKUP(A57,Sheet2!$B$2:$D$4381,3,0) -> SV4797222389612 | F57: SV4797222389612 | G57: =VLOOKUP(A57,Sheet2!$B$2:$E$4381,4,0) -> 025 | H57: 025 | I57: =VLOOKUP(A57,Sheet2!$B$2:$F$4381,5,0) -> BỆNH VIỆN THỐNG NHẤT
A58: 19004020 | B58: 19T4-KML1 | C58: Lê Phước Minh Tú | D58: 12/06/1998 | E58: =VLOOKUP(A58,Sheet2!$B$2:$D$4381,3,0) -> 0 | F58: 0 | G58: =VLOOKUP(A58,Sheet2!$B$2:$E$4381,4,0) -> 025 | H58: 025 | I58: =VLOOKUP(A58,Sheet2!$B$2:$F$4381,5,0) -> BỆNH VIỆN THỐNG NHẤT
A59: 19002409 | B59: 19C1-ĐCN1 | C59: Nguyễn Anh Tuấn | D59: 05/07/2001 | E59: =VLOOKUP(A59,Sheet2!$B$2:$D$4381,3,0) -> HS4808023135953 | F59: HS4808023135953 | G59: =VLOOKUP(A59,Sheet2!$B$2:$E$4381,4,0) -> 025 | H59: 025 | I59: =VLOOKUP(A59,Sheet2!$B$2:$F$4381,5,0) -> BỆNH VIỆN THỐNG NHẤT
A60: 19004080 | B60: 19T2-CCK1 | C60: Phạm Tuấn | D60: 25/10/2000 | E60: =VLOOKUP(A60,Sheet2!$B$2:$D$4381,3,0) -> 0 | F60: 0 | G60: =VLOOKUP(A60,Sheet2!$B$2:$E$4381,4,0) -> 025 | H60: 025 | I60: =VLOOKUP(A60,Sheet2!$B$2:$F$4381,5,0) -> BỆNH VIỆN THỐNG NHẤT
A61: 19003268 | B61: 19T4-ANM1 | C61: Nguyễn Thị Thúy Vy | D61: 11/11/2003 | E61: =VLOOKUP(A61,Sheet2!$B$2:$D$4381,3,0) -> 0 | F61: 0 | G61: =VLOOKUP(A61,Sheet2!$B$2:$E$4381,4,0) -> 029 | H61: 029 | I61: =VLOOKUP(A61,Sheet2!$B$2:$F$4381,5,0) -> BỆNH VIỆN QUẬN 12

Sheet Sheet2
B2: 19000001 | C2: Phan Phú Hào | E2: 025 | F2: =VLOOKUP(E2,'[1]MÃ BV'!$C$2:$D$137,2,0) -> BỆNH VIỆN THỐNG NHẤT
B3: 19000002 | C3: Phùng Đức Dương | D3: GD4797936952403 | E3: 025 | F3: =VLOOKUP(E3,'[1]MÃ BV'!$C$2:$D$137,2,0) -> BỆNH VIỆN THỐNG NHẤT
B4: 19000003 | C4: Lê Trọng Tiến | D4: HS4797935160094 | F4: =VLOOKUP(E4,'[1]MÃ BV'!$C$2:$D$137,2,0) -> #N/A
B5: 19000004 | C5: Phạm Hữu Hoàng | E5: 031 | F5: =VLOOKUP(E5,'[1]MÃ BV'!$C$2:$D$137,2,0) -> BỆNH VIỆN QUẬN BÌNH THẠNH
B6: 19000005 | C6: Nguyễn Khắc Trung Kiên | E6: 025 | F6: =D3838DK=VLOOKUP(E6,'[1]MÃ BV'!$C$2:$D$137,2,0) -> #NAME?
B7: 19000006 | C7: Trần Minh Quang | E7: 033 | F7: =VLOOKUP(E7,'[1]MÃ BV'!$C$2:$D$137,2,0) -> BỆNH VIỆN QUẬN TÂN BÌNH
B8: 19000007 | F8: =VLOOKUP(E8,'[1]MÃ BV'!$C$2:$D$137,2,0) -> #N/A
B9: 19000008 | C9: Võ Trung Khang | D9: HS4797931705829 | E9: 054 | F9: =VLOOKUP(E9,'[1]MÃ BV'!$C$2:$D$137,2,0) -> BỆNH VIỆN QUẬN TÂN PHÚ
B10: 19000009 | C10: Nguyễn Lê Hoàng | F10: =VLOOKUP(E10,'[1]MÃ BV'!$C$2:$D$137,2,0) -> #N/A
B11: 19000010 | C11: Trần Cao Long | E11: 055 | F11: =VLOOKUP(E11,'[1]MÃ BV'!$C$2:$D$137,2,0) -> BỆNH VIỆN QUẬN BÌNH TÂN
B12: 19000011 | C12: Huỳnh Nhựt Thành | D12: HS4797934005910 | E12: 013 | F12: =VLOOKUP(E12,'[1]MÃ BV'!$C$2:$D$137,2,0) -> BỆNH VIỆN NGUYỄN TRI PHƯƠNG
B13: 19000012 | C13: Nguyễn Hoàng Minh Quân | D13: GD4797933322737 | E13: 012 | F13: =VLOOKUP(E13,'[1]MÃ BV'!$C$2:$D$137,2,0) -> BỆNH VIỆN AN BÌNH
B14: 19000013 | C14: Nguyễn Nhật Huy | D14: HS4797930311705 | E14: 470 | F14: =VLOOKUP(E14,'[1]MÃ BV'!$C$2:$D$137,2,0) -> PHÒNG KHÁM ĐA KHOA CƠ SỞ 2 - BỆNH VIỆN QUẬN GÒ VẤP
B15: 19000014 | C15: Vũ Trường Khanh | E15: 470 | F15: =VLOOKUP(E15,'[1]MÃ BV'!$C$2:$D$137,2,0) -> PHÒNG KHÁM ĐA KHOA CƠ SỞ 2 - BỆNH VIỆN QUẬN GÒ VẤP
B16: 19000015 | C16: Vũ Ngọc Mai Khanh | E16: 470 | F16: =VLOOKUP(E16,'[1]MÃ BV'!$C$2:$D$137,2,0) -> PHÒNG KHÁM ĐA KHOA CƠ SỞ 2 - BỆNH VIỆN QUẬN GÒ VẤP
B17: 19000016 | C17: Nguyễn Dương Thanh | D17: GD4808023599812 | F17: =VLOOKUP(E17,'[1]MÃ BV'!$C$2:$D$137,2,0) -> #N/A
B18: 19000017 | C18: Đặng Hữu Giác | E18: 025 | F18: =VLOOKUP(E18,'[1]MÃ BV'!$C$2:$D$137,2,0) -> BỆNH VIỆN THỐNG NHẤT
B19: 19000018 | C19: Đào Thanh Tùng | D19: HS4797931161714 | E19: 025 | F19: =VLOOKUP(E19,'[1]MÃ BV'!$C$2:$D$137,2,0) -> BỆNH VIỆN THỐNG NHẤT
B20: 19000019 | F20: =VLOOKUP(E20,'[1]MÃ BV'!$C$2:$D$137,2,0) -> #N/A
B21: 19000020 | C21: Phan Nguyễn Thanh Thiện | E21: 054 | F21: =VLOOKUP(E21,'[1]MÃ BV'!$C$2:$D$137,2,0) -> BỆNH VIỆN QUẬN TÂN PHÚ
B22: 19000021 | F22: =VLOOKUP(E22,'[1]MÃ BV'!$C$2:$D$137,2,0) -> #N/A
B23: 19000022 | F23: =VLOOKUP(E23,'[1]MÃ BV'!$C$2:$D$137,2,0) -> #N/A
B24: 19000023 | C24: Nguyễn Cao Hưng | D24: HS4797934304799 | F24: =VLOOKUP(E24,'[1]MÃ BV'!$C$2:$D$137,2,0) -> #N/A
B25: 19000024 | F25: =VLOOKUP(E25,'[1]MÃ BV'!$C$2:$D$137,2,0) -> #N/A
B26: 19000025 | C26: Nguyễn Minh Ánh | E26: 032 | F26: =VLOOKUP(E26,'[1]MÃ BV'!$C$2:$D$137,2,0) -> BỆNH VIỆN QUẬN PHÚ NHUẬN
B27: 19000026 | C27: VÕ KIỀU MINH THƯ | E27: 058 | F27: =VLOOKUP(E27,'[1]MÃ BV'!$C$2:$D$137,2,0) -> BỆNH VIỆN ĐA KHOA TƯ NHÂN TRIỀU AN
B28: 19000027 | C28: Lê Hoàng Quốc Anh | D28: HS4797931377033 | E28: 025 | F28: =VLOOKUP(E28,'[1]MÃ BV'!$C$2:$D$137,2,0) -> BỆNH VIỆN THỐNG NHẤT
B29: 19000028 | C29: Bùi Hoàng An Vỹ | E29: 054 | F29: =VLOOKUP(E29,'[1]MÃ BV'!$C$2:$D$137,2,0) -> BỆNH VIỆN QUẬN TÂN PHÚ
B30: 19000029 | C30: Mach Arafin | E30: 032 | F30: =VLOOKUP(E30,'[1]MÃ BV'!$C$2:$D$137,2,0) -> BỆNH VIỆN QUẬN PHÚ NHUẬN
B31: 19000030 | C31: Lê Nguyễn Trung Hiếu | E31: 032 | F31: =VLOOKUP(E31,'[1]MÃ BV'!$C$2:$D$137,2,0) -> BỆNH VIỆN QUẬN PHÚ NHUẬN
B32: 19000031 | F32: =VLOOKUP(E32,'[1]MÃ BV'!$C$2:$D$137,2,0) -> #N/A
B33: 19000032 | C33: Huỳnh Văn Đạt | D33: HS4797936735269 | E33: 034 | F33: =VLOOKUP(E33,'[1]MÃ BV'!$C$2:$D$137,2,0) -> BỆNH VIỆN 175
B34: 19000033 | C34: Nguyễn Quốc Phục | E34: 034 | F34: =VLOOKUP(E34,'[1]MÃ BV'!$C$2:$D$137,2,0) -> BỆNH VIỆN 175
B35: 19000034 | C35: Nguyễn Lê Minh Kha | D35: HS4797935719015 | E35: 058 | F35: =VLOOKUP(E35,'[1]MÃ BV'!$C$2:$D$137,2,0) -> BỆNH VIỆN ĐA KHOA TƯ NHÂN TRIỀU AN
B36: 19000035 | C36: Võ Thanh Hiếu | D36: HS4797928535928 | E36: 030 | F36: =VLOOKUP(E36,'[1]MÃ BV'!$C$2:$D$137,2,0) -> BỆNH VIỆN NHÂN DÂN GIA ĐỊNH
B37: 19000036 | F37: =VLOOKUP(E37,'[1]MÃ BV'!$C$2:$D$137,2,0) -> #N/A
B38: 19000037 | C38: Ngô Khí Tài | D38: SV4797938292389 | E38: 030 | F38: =VLOOKUP(E38,'[1]MÃ BV'!$C$2:$D$137,2,0) -> BỆNH VIỆN NHÂN DÂN GIA ĐỊNH
B39: 19000038 | F39: =VLOOKUP(E39,'[1]MÃ BV'!$C$2:$D$137,2,0) -> #N/A
B40: 19000039 | F40: =VLOOKUP(E40,'[1]MÃ BV'!$C$2:$D$137,2,0) -> #N/A
B41: 19000040 | F41: =VLOOKUP(E41,'[1]MÃ BV'!$C$2:$D$137,2,0) -> #N/A
B42: 19000041 | F42: =VLOOKUP(E42,'[1]MÃ BV'!$C$2:$D$137,2,0) -> #N/A
B43: 19000042 | F43: =VLOOKUP(E43,'[1]MÃ BV'!$C$2:$D$137,2,0) -> #N/A
B44: 19000043 | C44: Nguyễn Thanh Tâm | E44: 035 | F44: =VLOOKUP(E44,'[1]MÃ BV'!$C$2:$D$137,2,0) -> BỆNH VIỆN QUẬN GÒ VẤP
B45: 19000044 | F45: =VLOOKUP(E45,'[1]MÃ BV'!$C$2:$D$137,2,0) -> #N/A
B46: 19000045 | F46: =VLOOKUP(E46,'[1]MÃ BV'!$C$2:$D$137,2,0) -> #N/A
B47: 19000046 | C47: Trần Nhật Phong | F47: =VLOOKUP(E47,'[1]MÃ BV'!$C$2:$D$137,2,0) -> #N/A
B48: 19000047 | C48: Kỳ Chí An | D48: HS4797932636358 | E48: 028 | F48: =VLOOKUP(E48,'[1]MÃ BV'!$C$2:$D$137,2,0) -> BỆNH VIỆN QUẬN 11
B49: 19000048 | C49: Nguyễn Đăng Khoa | D49: HS4797935021523 | E49: 040 | F49: =VLOOKUP(E49,'[1]MÃ BV'!$C$2:$D$137,2,0) -> BỆNH VIỆN ĐA KHOA KHU VỰC CỦ CHI
B50: 19000049 | C50: Huỳnh Trung Nhân | D50: HS4797937633341 | E50: 041 | F50: =VLOOKUP(E50,'[1]MÃ BV'!$C$2:$D$137,2,0) -> BỆNH VIỆN ĐA KHOA KHU VỰC HÓC MÔN
B51: 19000050 | C51: Trần Kim Thảo | D51: HS4797935362287 | E51: 041 | F51: =VLOOKUP(E51,'[1]MÃ BV'!$C$2:$D$137,2,0) -> BỆNH VIỆN ĐA KHOA KHU VỰC HÓC MÔN
B52: 19000051 | C52: Nguyễn Tuấn Anh | D52: HS4797939201157 | E52: 488 | F52: =VLOOKUP(E52,'[1]MÃ BV'!$C$2:$D$137,2,0) -> BỆNH VIỆN ĐA KHOA TƯ NHÂN XUYÊN Á
B53: 19000052 | C53: Nguyễn Thị Quỳnh Như | D53: HS4797936735319 | E53: 035 | F53: =VLOOKUP(E53,'[1]MÃ BV'!$C$2:$D$137,2,0) -> BỆNH VIỆN QUẬN GÒ VẤP
B54: 19000053 | C54: Trương Thị Hải Yến | D54: HS4797930068545 | E54: 488 | F54: =VLOOKUP(E54,'[1]MÃ BV'!$C$2:$D$137,2,0) -> BỆNH VIỆN ĐA KHOA TƯ NHÂN XUYÊN Á
B55: 19000054 | F55: =VLOOKUP(E55,'[1]MÃ BV'!$C$2:$D$137,2,0) -> #N/A
B56: 19000055 | C56: Kha Trương Đại Phước | D56: HS4797932642826 | E56: 017 | F56: =VLOOKUP(E56,'[1]MÃ BV'!$C$2:$D$137,2,0) -> BỆNH VIỆN QUẬN 6
B57: 19000056 | C57: Bành Nguyên Cao Minh | D57: HS4797936735463 | E57: 035 | F57: =VLOOKUP(E57,'[1]MÃ BV'!$C$2:$D$137,2,0) -> BỆNH VIỆN QUẬN GÒ VẤP
B58: 19000057 | C58: Võ Trường Duy | D58: HS4797937812125 | E58: 033 | F58: =VLOOKUP(E58,'[1]MÃ BV'!$C$2:$D$137,2,0) -> BỆNH VIỆN QUẬN TÂN BÌNH
B59: 19000058 | C59: Huỳnh Phước Quang | E59: 033 | F59: =VLOOKUP(E59,'[1]MÃ BV'!$C$2:$D$137,2,0) -> BỆNH VIỆN QUẬN TÂN BÌNH
B60: 19000059 | F60: =VLOOKUP(E60,'[1]MÃ BV'!$C$2:$D$137,2,0) -> #N/A
B61: 19000060 | F61: =VLOOKUP(E61,'[1]MÃ BV'!$C$2:$D$137,2,0) -> #N/A
B62: 19000061 | C62: Nguyễn Phan Hoàng Phúc | D62: GD4606020438078 | E62: 019 | F62: =VLOOKUP(E62,'[1]MÃ BV'!$C$2:$D$137,2,0) -> BỆNH VIỆN QUẬN 7
B63: 19000062 | F63: =VLOOKUP(E63,'[1]MÃ BV'!$C$2:$D$137,2,0) -> #N/A
B64: 19000063 | C64: Bùi Minh Tuấn | D64: HS4797937959008 | E64: 027 | F64: =VLOOKUP(E64,'[1]MÃ BV'!$C$2:$D$137,2,0) -> BỆNH VIỆN QUẬN 10
B65: 19000064 | C65: Xa Đồng Phúc | D65: GD4795121590334 | E65: GD | F65: =VLOOKUP(E65,'[1]MÃ BV'!$C$2:$D$137,2,0) -> #N/A
B66: 19000065 | F66: =VLOOKUP(E66,'[1]MÃ BV'!$C$2:$D$137,2,0) -> #N/A
B67: 19000066 | C67: Nguyễn Thanh Trung | D67: HS4797937970717 | E67: 470 | F67: =VLOOKUP(E67,'[1]MÃ BV'!$C$2:$D$137,2,0) -> PHÒNG KHÁM ĐA KHOA CƠ SỞ 2 - BỆNH VIỆN QUẬN GÒ VẤP
B68: 19000067 | C68: Trịnh Đức Anh | D68: HS4797935628128 | E68: 483 | F68: =VLOOKUP(E68,'[1]MÃ BV'!$C$2:$D$137,2,0) -> PHÒNG KHÁM ĐA KHOA (THUỘC CP TTYK THÀNH CÔNG )
B69: 19000068 | C69: Nguyễn Phương Nam | D69: HS47979 36735522 | E69: 029 | F69: =VLOOKUP(E69,'[1]MÃ BV'!$C$2:$D$137,2,0) -> BỆNH VIỆN QUẬN 12
B70: 19000069 | C70: Phùng Minh Nhật | D70: HS4797931981574 | E70: 032 | F70: =VLOOKUP(E70,'[1]MÃ BV'!$C$2:$D$137,2,0) -> BỆNH VIỆN QUẬN PHÚ NHUẬN
B71: 19000070 | C71: Nguyễn Hùng Mạnh | D71: HS4797928816197 | E71: 054 | F71: =VLOOKUP(E71,'[1]MÃ BV'!$C$2:$D$137,2,0) -> BỆNH VIỆN QUẬN TÂN PHÚ
B72: 19000071 | C72: Nguyễn Tấn Thịnh | E72: 071 | F72: =VLOOKUP(E72,'[1]MÃ BV'!$C$2:$D$137,2,0) -> BỆNH VIỆN ĐA KHOA HOÀN MỸ SÀI GÒN
B73: 19000072 | F73: =VLOOKUP(E73,'[1]MÃ BV'!$C$2:$D$137,2,0) -> #N/A
B74: 19000073 | C74: Nguyễn Tuấn Thành | E74: 064 | F74: =VLOOKUP(E74,'[1]MÃ BV'!$C$2:$D$137,2,0) -> PHÒNG KHÁM ĐA KHOA (THUỘC Cty TNHH PKĐK VIỆT PHƯỚC )
B75: 19000074 | C75: Võ Lân Đông Trúc | D75: HS4797937194623 | E75: 054 | F75: =VLOOKUP(E75,'[1]MÃ BV'!$C$2:$D$137,2,0) -> BỆNH VIỆN QUẬN TÂN PHÚ
B76: 19000075 | F76: =VLOOKUP(E76,'[1]MÃ BV'!$C$2:$D$137,2,0) -> #N/A
B77: 19000076 | C77: Nguyễn Thái Trung Nguyên | D77: GD4797931905610 | E77: 071 | F77: =VLOOKUP(E77,'[1]MÃ BV'!$C$2:$D$137,2,0) -> BỆNH VIỆN ĐA KHOA HOÀN MỸ SÀI GÒN
B78: 19000077 | C78: Trần Nhật Quang | D78: HS4757526412835 | E78: 025 | F78: =VLOOKUP(E78,'[1]MÃ BV'!$C$2:$D$137,2,0) -> BỆNH VIỆN THỐNG NHẤT
B79: 19000078 | C79: Lưu dân Hiếu | D79: HS4797939068260 | E79: 489 | F79: =VLOOKUP(E79,'[1]MÃ BV'!$C$2:$D$137,2,0) -> BỆNH VIỆN ĐA KHOA TÂM TRÍ SÀI GÒN
B80: 19000079 | C80: NGUYỄN NHẬT QUANG | E80: 025 | F80: =VLOOKUP(E80,'[1]MÃ BV'!$C$2:$D$137,2,0) -> BỆNH VIỆN THỐNG NHẤT
B81: 19000080 | C81: Vũ Quang Cường | D81: HS4797937811830 | E81: 033 | F81: =VLOOKUP(E81,'[1]MÃ BV'!$C$2:$D$137,2,0) -> BỆNH VIỆN QUẬN TÂN BÌNH
B82: 19000081 | C82: Nguyễn Hùng Cường | E82: 033 | F82: =VLOOKUP(E82,'[1]MÃ BV'!$C$2:$D$137,2,0) -> BỆNH VIỆN QUẬN TÂN BÌNH
B83: 19000082 | C83: Nguyễn Cảnh Long | D83: HS4797931844506 | E83: 032 | F83: =VLOOKUP(E83,'[1]MÃ BV'!$C$2:$D$137,2,0) -> BỆNH VIỆN QUẬN PHÚ NHUẬN
B84: 19000083 | C84: Trần Trọng Thoại | E84: 025 | F84: =VLOOKUP(E84,'[1]MÃ BV'!$C$2:$D$137,2,0) -> BỆNH VIỆN THỐNG NHẤT
B85: 19000084 | C85: Lê Bảo Lộc | E85: 025 | F85: =VLOOKUP(E85,'[1]MÃ BV'!$C$2:$D$137,2,0) -> BỆNH VIỆN THỐNG NHẤT
B86: 19000085 | C86: Huỳnh Thanh Tuấn | D86: HS4797930280827 | E86: 470 | F86: =VLOOKUP(E86,'[1]MÃ BV'!$C$2:$D$137,2,0) -> PHÒNG KHÁM ĐA KHOA CƠ SỞ 2 - BỆNH VIỆN QUẬN GÒ VẤP
B87: 19000086 | C87: Giang Lê Đức Tâm | D87: HS479791328612 | E87: 025 | F87: =VLOOKUP(E87,'[1]MÃ BV'!$C$2:$D$137,2,0) -> BỆNH VIỆN THỐNG NHẤT
B88: 19000087 | C88: Trần Kim Bảo | D88: HS4797937766772 | E88: 025 | F88: =VLOOKUP(E88,'[1]MÃ BV'!$C$2:$D$137,2,0) -> BỆNH VIỆN THỐNG NHẤT
B89: 19000088 | C89: Lê Hoàng Phước | D89: HS4797932208256 | E89: 009 | F89: =VLOOKUP(E89,'[1]MÃ BV'!$C$2:$D$137,2,0) -> BỆNH VIỆN QUẬN 3
B90: 19000089 | C90: Vũ Hoàng Đạo | D90: GD4797937564701 | E90: 022 | F90: =VLOOKUP(E90,'[1]MÃ BV'!$C$2:$D$137,2,0) -> BỆNH VIỆN QUẬN 9
B91: 19000090 | C91: Nguyễn Trần Đức Duy | D91: HS4797931373497 | E91: 025/054 | F91: =VLOOKUP(E91,'[1]MÃ BV'!$C$2:$D$137,2,0) -> #N/A
B92: 19000091 | C92: Lý Ngô Bảo Nguyên | D92: HS4797937812086 | E92: 025 | F92: =VLOOKUP(E92,'[1]MÃ BV'!$C$2:$D$137,2,0) -> BỆNH VIỆN THỐNG NHẤT
B93: 19000092 | C93: Nguyễn Bá Duy Thành | E93: 026 | F93: =VLOOKUP(E93,'[1]MÃ BV'!$C$2:$D$137,2,0) -> BỆNH VIỆN CẤP CỨU TRƯNG VƯƠNG
B94: 19000093 | C94: Trần Trí Lực | D94: HS4797931863719 | E94: 032 | F94: =VLOOKUP(E94,'[1]MÃ BV'!$C$2:$D$137,2,0) -> BỆNH VIỆN QUẬN PHÚ NHUẬN
B95: 19000094 | C95: Nguyễn Ngọc Hoàng An | D95: HS4797938025581 | E95: 054 | F95: =VLOOKUP(E95,'[1]MÃ BV'!$C$2:$D$137,2,0) -> BỆNH VIỆN QUẬN TÂN PHÚ
B96: 19000095 | C96: Nguyễn Ngọc Hoàng Ân | D96: HS4797930940144 | E96: 054 | F96: =VLOOKUP(E96,'[1]MÃ BV'!$C$2:$D$137,2,0) -> BỆNH VIỆN QUẬN TÂN PHÚ
B97: 19000096 | F97: =VLOOKUP(E97,'[1]MÃ BV'!$C$2:$D$137,2,0) -> #N/A
B98: 19000097 | C98: Nguyễn Thế Bảo | E98: 033 | F98: =VLOOKUP(E98,'[1]MÃ BV'!$C$2:$D$137,2,0) -> BỆNH VIỆN QUẬN TÂN BÌNH
B99: 19000098 | C99: Trịnh Tấn An | E99: 025 | F99: =VLOOKUP(E99,'[1]MÃ BV'!$C$2:$D$137,2,0) -> BỆNH VIỆN THỐNG NHẤT
B100: 19000099 | C100: Trần Thái Thành Đạt | E100: 033 | F100: =VLOOKUP(E100,'[1]MÃ BV'!$C$2:$D$137,2,0) -> BỆNH VIỆN QUẬN TÂN BÌNH
B101: 19000100 | F101: =VLOOKUP(E101,'[1]MÃ BV'!$C$2:$D$137,2,0) -> #N/A
...
